BEGIN:VCALENDAR
VERSION:2.0
PRODID:-//American Baptist Churches of the Great River Region - ECPv6.15.20//NONSGML v1.0//EN
CALSCALE:GREGORIAN
METHOD:PUBLISH
X-WR-CALNAME:American Baptist Churches of the Great River Region
X-ORIGINAL-URL:https://abcgrr.org
X-WR-CALDESC:Events for American Baptist Churches of the Great River Region
REFRESH-INTERVAL;VALUE=DURATION:PT1H
X-Robots-Tag:noindex
X-PUBLISHED-TTL:PT1H
BEGIN:VTIMEZONE
TZID:America/Chicago
BEGIN:DAYLIGHT
TZOFFSETFROM:-0600
TZOFFSETTO:-0500
TZNAME:CDT
DTSTART:20250309T080000
END:DAYLIGHT
BEGIN:STANDARD
TZOFFSETFROM:-0500
TZOFFSETTO:-0600
TZNAME:CST
DTSTART:20251102T070000
END:STANDARD
BEGIN:DAYLIGHT
TZOFFSETFROM:-0600
TZOFFSETTO:-0500
TZNAME:CDT
DTSTART:20260308T080000
END:DAYLIGHT
BEGIN:STANDARD
TZOFFSETFROM:-0500
TZOFFSETTO:-0600
TZNAME:CST
DTSTART:20261101T070000
END:STANDARD
BEGIN:DAYLIGHT
TZOFFSETFROM:-0600
TZOFFSETTO:-0500
TZNAME:CDT
DTSTART:20270314T080000
END:DAYLIGHT
BEGIN:STANDARD
TZOFFSETFROM:-0500
TZOFFSETTO:-0600
TZNAME:CST
DTSTART:20271107T070000
END:STANDARD
BEGIN:DAYLIGHT
TZOFFSETFROM:-0600
TZOFFSETTO:-0500
TZNAME:CDT
DTSTART:20280312T080000
END:DAYLIGHT
BEGIN:STANDARD
TZOFFSETFROM:-0500
TZOFFSETTO:-0600
TZNAME:CST
DTSTART:20281105T070000
END:STANDARD
END:VTIMEZONE
BEGIN:VEVENT
DTSTART;TZID=America/Chicago:20260504T120000
DTEND;TZID=America/Chicago:20260504T140000
DTSTAMP:20260424T025153
CREATED:20241024T180733Z
LAST-MODIFIED:20241024T180735Z
UID:10000218-1777896000-1777903200@abcgrr.org
SUMMARY:Champaign Cluster meets 1st Monday monthly 12:00 noon various locations
DESCRIPTION:Champaign Cluster meets 1st Monday monthly 12:00 noon various locations
URL:https://abcgrr.org/event/champaign-cluster-meets-1st-monday-monthly-1200-noon-various-locations/2026-05-04/
ORGANIZER;CN="Brian Romanowski":MAILTO:bs.romanowski@gmail.com
END:VEVENT
BEGIN:VEVENT
DTSTART;TZID=America/Chicago:20260505T120000
DTEND;TZID=America/Chicago:20260505T140000
DTSTAMP:20260424T025153
CREATED:20241024T182811Z
LAST-MODIFIED:20241024T182813Z
UID:10000459-1777982400-1777989600@abcgrr.org
SUMMARY:Murphysboro Cluster meets 1st Tuesday monthly 12:00 noon - location varies
DESCRIPTION:Murphysboro Cluster meets 1st Tuesday monthly 12:00 noon – location varies
URL:https://abcgrr.org/event/murphysboro-cluster-meets-1st-tuesday-monthly-1200-noon-location-varies/2026-05-05/
ORGANIZER;CN="Brian Romanowski":MAILTO:bs.romanowski@gmail.com
END:VEVENT
BEGIN:VEVENT
DTSTART;TZID=America/Chicago:20260514T120000
DTEND;TZID=America/Chicago:20260514T140000
DTSTAMP:20260424T025153
CREATED:20241024T181031Z
LAST-MODIFIED:20241024T181032Z
UID:10000278-1778760000-1778767200@abcgrr.org
SUMMARY:Bloomington Cluster meets 2nd Thursday monthly at various locations 12:00 noon
DESCRIPTION:Bloomington Cluster meets 2nd Thursday monthly at various locations 12:00 noon
URL:https://abcgrr.org/event/bloomington-cluster-meets-2nd-thursday-monthly-at-various-locations-1200-noon/2026-05-14/
ORGANIZER;CN="Brian Romanowski":MAILTO:bs.romanowski@gmail.com
END:VEVENT
BEGIN:VEVENT
DTSTART;TZID=America/Chicago:20260601T120000
DTEND;TZID=America/Chicago:20260601T140000
DTSTAMP:20260424T025153
CREATED:20241024T180733Z
LAST-MODIFIED:20241024T180735Z
UID:10000219-1780315200-1780322400@abcgrr.org
SUMMARY:Champaign Cluster meets 1st Monday monthly 12:00 noon various locations
DESCRIPTION:Champaign Cluster meets 1st Monday monthly 12:00 noon various locations
URL:https://abcgrr.org/event/champaign-cluster-meets-1st-monday-monthly-1200-noon-various-locations/2026-06-01/
ORGANIZER;CN="Brian Romanowski":MAILTO:bs.romanowski@gmail.com
END:VEVENT
BEGIN:VEVENT
DTSTART;TZID=America/Chicago:20260602T120000
DTEND;TZID=America/Chicago:20260602T140000
DTSTAMP:20260424T025153
CREATED:20241024T182811Z
LAST-MODIFIED:20241024T182813Z
UID:10000460-1780401600-1780408800@abcgrr.org
SUMMARY:Murphysboro Cluster meets 1st Tuesday monthly 12:00 noon - location varies
DESCRIPTION:Murphysboro Cluster meets 1st Tuesday monthly 12:00 noon – location varies
URL:https://abcgrr.org/event/murphysboro-cluster-meets-1st-tuesday-monthly-1200-noon-location-varies/2026-06-02/
ORGANIZER;CN="Brian Romanowski":MAILTO:bs.romanowski@gmail.com
END:VEVENT
BEGIN:VEVENT
DTSTART;TZID=America/Chicago:20260611T120000
DTEND;TZID=America/Chicago:20260611T140000
DTSTAMP:20260424T025153
CREATED:20241024T181031Z
LAST-MODIFIED:20241024T181032Z
UID:10000279-1781179200-1781186400@abcgrr.org
SUMMARY:Bloomington Cluster meets 2nd Thursday monthly at various locations 12:00 noon
DESCRIPTION:Bloomington Cluster meets 2nd Thursday monthly at various locations 12:00 noon
URL:https://abcgrr.org/event/bloomington-cluster-meets-2nd-thursday-monthly-at-various-locations-1200-noon/2026-06-11/
ORGANIZER;CN="Brian Romanowski":MAILTO:bs.romanowski@gmail.com
END:VEVENT
BEGIN:VEVENT
DTSTART;TZID=America/Chicago:20260706T120000
DTEND;TZID=America/Chicago:20260706T140000
DTSTAMP:20260424T025153
CREATED:20241024T180733Z
LAST-MODIFIED:20241024T180735Z
UID:10000220-1783339200-1783346400@abcgrr.org
SUMMARY:Champaign Cluster meets 1st Monday monthly 12:00 noon various locations
DESCRIPTION:Champaign Cluster meets 1st Monday monthly 12:00 noon various locations
URL:https://abcgrr.org/event/champaign-cluster-meets-1st-monday-monthly-1200-noon-various-locations/2026-07-06/
ORGANIZER;CN="Brian Romanowski":MAILTO:bs.romanowski@gmail.com
END:VEVENT
BEGIN:VEVENT
DTSTART;TZID=America/Chicago:20260707T120000
DTEND;TZID=America/Chicago:20260707T140000
DTSTAMP:20260424T025153
CREATED:20241024T182811Z
LAST-MODIFIED:20241024T182813Z
UID:10000461-1783425600-1783432800@abcgrr.org
SUMMARY:Murphysboro Cluster meets 1st Tuesday monthly 12:00 noon - location varies
DESCRIPTION:Murphysboro Cluster meets 1st Tuesday monthly 12:00 noon – location varies
URL:https://abcgrr.org/event/murphysboro-cluster-meets-1st-tuesday-monthly-1200-noon-location-varies/2026-07-07/
ORGANIZER;CN="Brian Romanowski":MAILTO:bs.romanowski@gmail.com
END:VEVENT
BEGIN:VEVENT
DTSTART;TZID=America/Chicago:20260709T120000
DTEND;TZID=America/Chicago:20260709T140000
DTSTAMP:20260424T025153
CREATED:20241024T181031Z
LAST-MODIFIED:20241024T181032Z
UID:10000280-1783598400-1783605600@abcgrr.org
SUMMARY:Bloomington Cluster meets 2nd Thursday monthly at various locations 12:00 noon
DESCRIPTION:Bloomington Cluster meets 2nd Thursday monthly at various locations 12:00 noon
URL:https://abcgrr.org/event/bloomington-cluster-meets-2nd-thursday-monthly-at-various-locations-1200-noon/2026-07-09/
ORGANIZER;CN="Brian Romanowski":MAILTO:bs.romanowski@gmail.com
END:VEVENT
BEGIN:VEVENT
DTSTART;TZID=America/Chicago:20260803T120000
DTEND;TZID=America/Chicago:20260803T140000
DTSTAMP:20260424T025153
CREATED:20241024T180733Z
LAST-MODIFIED:20241024T180735Z
UID:10000221-1785758400-1785765600@abcgrr.org
SUMMARY:Champaign Cluster meets 1st Monday monthly 12:00 noon various locations
DESCRIPTION:Champaign Cluster meets 1st Monday monthly 12:00 noon various locations
URL:https://abcgrr.org/event/champaign-cluster-meets-1st-monday-monthly-1200-noon-various-locations/2026-08-03/
ORGANIZER;CN="Brian Romanowski":MAILTO:bs.romanowski@gmail.com
END:VEVENT
BEGIN:VEVENT
DTSTART;TZID=America/Chicago:20260804T120000
DTEND;TZID=America/Chicago:20260804T140000
DTSTAMP:20260424T025153
CREATED:20241024T182811Z
LAST-MODIFIED:20241024T182813Z
UID:10000462-1785844800-1785852000@abcgrr.org
SUMMARY:Murphysboro Cluster meets 1st Tuesday monthly 12:00 noon - location varies
DESCRIPTION:Murphysboro Cluster meets 1st Tuesday monthly 12:00 noon – location varies
URL:https://abcgrr.org/event/murphysboro-cluster-meets-1st-tuesday-monthly-1200-noon-location-varies/2026-08-04/
ORGANIZER;CN="Brian Romanowski":MAILTO:bs.romanowski@gmail.com
END:VEVENT
BEGIN:VEVENT
DTSTART;TZID=America/Chicago:20260813T120000
DTEND;TZID=America/Chicago:20260813T140000
DTSTAMP:20260424T025153
CREATED:20241024T181031Z
LAST-MODIFIED:20241024T181032Z
UID:10000281-1786622400-1786629600@abcgrr.org
SUMMARY:Bloomington Cluster meets 2nd Thursday monthly at various locations 12:00 noon
DESCRIPTION:Bloomington Cluster meets 2nd Thursday monthly at various locations 12:00 noon
URL:https://abcgrr.org/event/bloomington-cluster-meets-2nd-thursday-monthly-at-various-locations-1200-noon/2026-08-13/
ORGANIZER;CN="Brian Romanowski":MAILTO:bs.romanowski@gmail.com
END:VEVENT
BEGIN:VEVENT
DTSTART;TZID=America/Chicago:20260901T120000
DTEND;TZID=America/Chicago:20260901T140000
DTSTAMP:20260424T025153
CREATED:20241024T182811Z
LAST-MODIFIED:20241024T182813Z
UID:10000463-1788264000-1788271200@abcgrr.org
SUMMARY:Murphysboro Cluster meets 1st Tuesday monthly 12:00 noon - location varies
DESCRIPTION:Murphysboro Cluster meets 1st Tuesday monthly 12:00 noon – location varies
URL:https://abcgrr.org/event/murphysboro-cluster-meets-1st-tuesday-monthly-1200-noon-location-varies/2026-09-01/
ORGANIZER;CN="Brian Romanowski":MAILTO:bs.romanowski@gmail.com
END:VEVENT
BEGIN:VEVENT
DTSTART;TZID=America/Chicago:20260907T120000
DTEND;TZID=America/Chicago:20260907T140000
DTSTAMP:20260424T025153
CREATED:20241024T180733Z
LAST-MODIFIED:20241024T180735Z
UID:10000222-1788782400-1788789600@abcgrr.org
SUMMARY:Champaign Cluster meets 1st Monday monthly 12:00 noon various locations
DESCRIPTION:Champaign Cluster meets 1st Monday monthly 12:00 noon various locations
URL:https://abcgrr.org/event/champaign-cluster-meets-1st-monday-monthly-1200-noon-various-locations/2026-09-07/
ORGANIZER;CN="Brian Romanowski":MAILTO:bs.romanowski@gmail.com
END:VEVENT
BEGIN:VEVENT
DTSTART;TZID=America/Chicago:20260910T120000
DTEND;TZID=America/Chicago:20260910T140000
DTSTAMP:20260424T025153
CREATED:20241024T181031Z
LAST-MODIFIED:20241024T181032Z
UID:10000282-1789041600-1789048800@abcgrr.org
SUMMARY:Bloomington Cluster meets 2nd Thursday monthly at various locations 12:00 noon
DESCRIPTION:Bloomington Cluster meets 2nd Thursday monthly at various locations 12:00 noon
URL:https://abcgrr.org/event/bloomington-cluster-meets-2nd-thursday-monthly-at-various-locations-1200-noon/2026-09-10/
ORGANIZER;CN="Brian Romanowski":MAILTO:bs.romanowski@gmail.com
END:VEVENT
BEGIN:VEVENT
DTSTART;TZID=America/Chicago:20261005T120000
DTEND;TZID=America/Chicago:20261005T140000
DTSTAMP:20260424T025153
CREATED:20241024T180733Z
LAST-MODIFIED:20241024T180735Z
UID:10000223-1791201600-1791208800@abcgrr.org
SUMMARY:Champaign Cluster meets 1st Monday monthly 12:00 noon various locations
DESCRIPTION:Champaign Cluster meets 1st Monday monthly 12:00 noon various locations
URL:https://abcgrr.org/event/champaign-cluster-meets-1st-monday-monthly-1200-noon-various-locations/2026-10-05/
ORGANIZER;CN="Brian Romanowski":MAILTO:bs.romanowski@gmail.com
END:VEVENT
BEGIN:VEVENT
DTSTART;TZID=America/Chicago:20261006T120000
DTEND;TZID=America/Chicago:20261006T140000
DTSTAMP:20260424T025153
CREATED:20241024T182811Z
LAST-MODIFIED:20241024T182813Z
UID:10000464-1791288000-1791295200@abcgrr.org
SUMMARY:Murphysboro Cluster meets 1st Tuesday monthly 12:00 noon - location varies
DESCRIPTION:Murphysboro Cluster meets 1st Tuesday monthly 12:00 noon – location varies
URL:https://abcgrr.org/event/murphysboro-cluster-meets-1st-tuesday-monthly-1200-noon-location-varies/2026-10-06/
ORGANIZER;CN="Brian Romanowski":MAILTO:bs.romanowski@gmail.com
END:VEVENT
BEGIN:VEVENT
DTSTART;TZID=America/Chicago:20261008T120000
DTEND;TZID=America/Chicago:20261008T140000
DTSTAMP:20260424T025153
CREATED:20241024T181031Z
LAST-MODIFIED:20241024T181032Z
UID:10000283-1791460800-1791468000@abcgrr.org
SUMMARY:Bloomington Cluster meets 2nd Thursday monthly at various locations 12:00 noon
DESCRIPTION:Bloomington Cluster meets 2nd Thursday monthly at various locations 12:00 noon
URL:https://abcgrr.org/event/bloomington-cluster-meets-2nd-thursday-monthly-at-various-locations-1200-noon/2026-10-08/
ORGANIZER;CN="Brian Romanowski":MAILTO:bs.romanowski@gmail.com
END:VEVENT
BEGIN:VEVENT
DTSTART;TZID=America/Chicago:20261102T120000
DTEND;TZID=America/Chicago:20261102T140000
DTSTAMP:20260424T025153
CREATED:20241024T180733Z
LAST-MODIFIED:20241024T180735Z
UID:10000224-1793620800-1793628000@abcgrr.org
SUMMARY:Champaign Cluster meets 1st Monday monthly 12:00 noon various locations
DESCRIPTION:Champaign Cluster meets 1st Monday monthly 12:00 noon various locations
URL:https://abcgrr.org/event/champaign-cluster-meets-1st-monday-monthly-1200-noon-various-locations/2026-11-02/
ORGANIZER;CN="Brian Romanowski":MAILTO:bs.romanowski@gmail.com
END:VEVENT
BEGIN:VEVENT
DTSTART;TZID=America/Chicago:20261103T120000
DTEND;TZID=America/Chicago:20261103T140000
DTSTAMP:20260424T025153
CREATED:20241024T182811Z
LAST-MODIFIED:20241024T182813Z
UID:10000465-1793707200-1793714400@abcgrr.org
SUMMARY:Murphysboro Cluster meets 1st Tuesday monthly 12:00 noon - location varies
DESCRIPTION:Murphysboro Cluster meets 1st Tuesday monthly 12:00 noon – location varies
URL:https://abcgrr.org/event/murphysboro-cluster-meets-1st-tuesday-monthly-1200-noon-location-varies/2026-11-03/
ORGANIZER;CN="Brian Romanowski":MAILTO:bs.romanowski@gmail.com
END:VEVENT
BEGIN:VEVENT
DTSTART;TZID=America/Chicago:20261112T120000
DTEND;TZID=America/Chicago:20261112T140000
DTSTAMP:20260424T025153
CREATED:20241024T181031Z
LAST-MODIFIED:20241024T181032Z
UID:10000284-1794484800-1794492000@abcgrr.org
SUMMARY:Bloomington Cluster meets 2nd Thursday monthly at various locations 12:00 noon
DESCRIPTION:Bloomington Cluster meets 2nd Thursday monthly at various locations 12:00 noon
URL:https://abcgrr.org/event/bloomington-cluster-meets-2nd-thursday-monthly-at-various-locations-1200-noon/2026-11-12/
ORGANIZER;CN="Brian Romanowski":MAILTO:bs.romanowski@gmail.com
END:VEVENT
BEGIN:VEVENT
DTSTART;TZID=America/Chicago:20261201T120000
DTEND;TZID=America/Chicago:20261201T140000
DTSTAMP:20260424T025153
CREATED:20241024T182811Z
LAST-MODIFIED:20241024T182813Z
UID:10000466-1796126400-1796133600@abcgrr.org
SUMMARY:Murphysboro Cluster meets 1st Tuesday monthly 12:00 noon - location varies
DESCRIPTION:Murphysboro Cluster meets 1st Tuesday monthly 12:00 noon – location varies
URL:https://abcgrr.org/event/murphysboro-cluster-meets-1st-tuesday-monthly-1200-noon-location-varies/2026-12-01/
ORGANIZER;CN="Brian Romanowski":MAILTO:bs.romanowski@gmail.com
END:VEVENT
BEGIN:VEVENT
DTSTART;TZID=America/Chicago:20261207T120000
DTEND;TZID=America/Chicago:20261207T140000
DTSTAMP:20260424T025153
CREATED:20241024T180733Z
LAST-MODIFIED:20241024T180735Z
UID:10000225-1796644800-1796652000@abcgrr.org
SUMMARY:Champaign Cluster meets 1st Monday monthly 12:00 noon various locations
DESCRIPTION:Champaign Cluster meets 1st Monday monthly 12:00 noon various locations
URL:https://abcgrr.org/event/champaign-cluster-meets-1st-monday-monthly-1200-noon-various-locations/2026-12-07/
ORGANIZER;CN="Brian Romanowski":MAILTO:bs.romanowski@gmail.com
END:VEVENT
BEGIN:VEVENT
DTSTART;TZID=America/Chicago:20261210T120000
DTEND;TZID=America/Chicago:20261210T140000
DTSTAMP:20260424T025153
CREATED:20241024T181031Z
LAST-MODIFIED:20241024T181032Z
UID:10000285-1796904000-1796911200@abcgrr.org
SUMMARY:Bloomington Cluster meets 2nd Thursday monthly at various locations 12:00 noon
DESCRIPTION:Bloomington Cluster meets 2nd Thursday monthly at various locations 12:00 noon
URL:https://abcgrr.org/event/bloomington-cluster-meets-2nd-thursday-monthly-at-various-locations-1200-noon/2026-12-10/
ORGANIZER;CN="Brian Romanowski":MAILTO:bs.romanowski@gmail.com
END:VEVENT
BEGIN:VEVENT
DTSTART;TZID=America/Chicago:20270104T120000
DTEND;TZID=America/Chicago:20270104T140000
DTSTAMP:20260424T025153
CREATED:20241024T180733Z
LAST-MODIFIED:20241024T180735Z
UID:10000226-1799064000-1799071200@abcgrr.org
SUMMARY:Champaign Cluster meets 1st Monday monthly 12:00 noon various locations
DESCRIPTION:Champaign Cluster meets 1st Monday monthly 12:00 noon various locations
URL:https://abcgrr.org/event/champaign-cluster-meets-1st-monday-monthly-1200-noon-various-locations/2027-01-04/
ORGANIZER;CN="Brian Romanowski":MAILTO:bs.romanowski@gmail.com
END:VEVENT
BEGIN:VEVENT
DTSTART;TZID=America/Chicago:20270105T120000
DTEND;TZID=America/Chicago:20270105T140000
DTSTAMP:20260424T025153
CREATED:20241024T182811Z
LAST-MODIFIED:20241024T182813Z
UID:10000467-1799150400-1799157600@abcgrr.org
SUMMARY:Murphysboro Cluster meets 1st Tuesday monthly 12:00 noon - location varies
DESCRIPTION:Murphysboro Cluster meets 1st Tuesday monthly 12:00 noon – location varies
URL:https://abcgrr.org/event/murphysboro-cluster-meets-1st-tuesday-monthly-1200-noon-location-varies/2027-01-05/
ORGANIZER;CN="Brian Romanowski":MAILTO:bs.romanowski@gmail.com
END:VEVENT
BEGIN:VEVENT
DTSTART;TZID=America/Chicago:20270114T120000
DTEND;TZID=America/Chicago:20270114T140000
DTSTAMP:20260424T025153
CREATED:20241024T181031Z
LAST-MODIFIED:20241024T181032Z
UID:10000286-1799928000-1799935200@abcgrr.org
SUMMARY:Bloomington Cluster meets 2nd Thursday monthly at various locations 12:00 noon
DESCRIPTION:Bloomington Cluster meets 2nd Thursday monthly at various locations 12:00 noon
URL:https://abcgrr.org/event/bloomington-cluster-meets-2nd-thursday-monthly-at-various-locations-1200-noon/2027-01-14/
ORGANIZER;CN="Brian Romanowski":MAILTO:bs.romanowski@gmail.com
END:VEVENT
BEGIN:VEVENT
DTSTART;TZID=America/Chicago:20270201T120000
DTEND;TZID=America/Chicago:20270201T140000
DTSTAMP:20260424T025153
CREATED:20241024T180733Z
LAST-MODIFIED:20241024T180735Z
UID:10000227-1801483200-1801490400@abcgrr.org
SUMMARY:Champaign Cluster meets 1st Monday monthly 12:00 noon various locations
DESCRIPTION:Champaign Cluster meets 1st Monday monthly 12:00 noon various locations
URL:https://abcgrr.org/event/champaign-cluster-meets-1st-monday-monthly-1200-noon-various-locations/2027-02-01/
ORGANIZER;CN="Brian Romanowski":MAILTO:bs.romanowski@gmail.com
END:VEVENT
BEGIN:VEVENT
DTSTART;TZID=America/Chicago:20270202T120000
DTEND;TZID=America/Chicago:20270202T140000
DTSTAMP:20260424T025153
CREATED:20241024T182811Z
LAST-MODIFIED:20241024T182813Z
UID:10000468-1801569600-1801576800@abcgrr.org
SUMMARY:Murphysboro Cluster meets 1st Tuesday monthly 12:00 noon - location varies
DESCRIPTION:Murphysboro Cluster meets 1st Tuesday monthly 12:00 noon – location varies
URL:https://abcgrr.org/event/murphysboro-cluster-meets-1st-tuesday-monthly-1200-noon-location-varies/2027-02-02/
ORGANIZER;CN="Brian Romanowski":MAILTO:bs.romanowski@gmail.com
END:VEVENT
BEGIN:VEVENT
DTSTART;TZID=America/Chicago:20270211T120000
DTEND;TZID=America/Chicago:20270211T140000
DTSTAMP:20260424T025153
CREATED:20241024T181031Z
LAST-MODIFIED:20241024T181032Z
UID:10000287-1802347200-1802354400@abcgrr.org
SUMMARY:Bloomington Cluster meets 2nd Thursday monthly at various locations 12:00 noon
DESCRIPTION:Bloomington Cluster meets 2nd Thursday monthly at various locations 12:00 noon
URL:https://abcgrr.org/event/bloomington-cluster-meets-2nd-thursday-monthly-at-various-locations-1200-noon/2027-02-11/
ORGANIZER;CN="Brian Romanowski":MAILTO:bs.romanowski@gmail.com
END:VEVENT
END:VCALENDAR