BEGIN:VCALENDAR
VERSION:2.0
PRODID:-//American Baptist Churches of the Great River Region - ECPv6.15.20//NONSGML v1.0//EN
CALSCALE:GREGORIAN
METHOD:PUBLISH
X-WR-CALNAME:American Baptist Churches of the Great River Region
X-ORIGINAL-URL:https://abcgrr.org
X-WR-CALDESC:Events for American Baptist Churches of the Great River Region
REFRESH-INTERVAL;VALUE=DURATION:PT1H
X-Robots-Tag:noindex
X-PUBLISHED-TTL:PT1H
BEGIN:VTIMEZONE
TZID:America/Chicago
BEGIN:DAYLIGHT
TZOFFSETFROM:-0600
TZOFFSETTO:-0500
TZNAME:CDT
DTSTART:20260308T080000
END:DAYLIGHT
BEGIN:STANDARD
TZOFFSETFROM:-0500
TZOFFSETTO:-0600
TZNAME:CST
DTSTART:20261101T070000
END:STANDARD
BEGIN:DAYLIGHT
TZOFFSETFROM:-0600
TZOFFSETTO:-0500
TZNAME:CDT
DTSTART:20270314T080000
END:DAYLIGHT
BEGIN:STANDARD
TZOFFSETFROM:-0500
TZOFFSETTO:-0600
TZNAME:CST
DTSTART:20271107T070000
END:STANDARD
BEGIN:DAYLIGHT
TZOFFSETFROM:-0600
TZOFFSETTO:-0500
TZNAME:CDT
DTSTART:20280312T080000
END:DAYLIGHT
BEGIN:STANDARD
TZOFFSETFROM:-0500
TZOFFSETTO:-0600
TZNAME:CST
DTSTART:20281105T070000
END:STANDARD
BEGIN:DAYLIGHT
TZOFFSETFROM:-0600
TZOFFSETTO:-0500
TZNAME:CDT
DTSTART:20290311T080000
END:DAYLIGHT
BEGIN:STANDARD
TZOFFSETFROM:-0500
TZOFFSETTO:-0600
TZNAME:CST
DTSTART:20291104T070000
END:STANDARD
END:VTIMEZONE
BEGIN:VEVENT
DTSTART;TZID=America/Chicago:20271225T090000
DTEND;TZID=America/Chicago:20271225T110000
DTSTAMP:20260421T075946
CREATED:20241024T183005Z
LAST-MODIFIED:20241024T183007Z
UID:10000539-1829725200-1829732400@abcgrr.org
SUMMARY:Metro East Cluster meets 4th Saturday monthly 9:00 a.m. @ First Baptist Church\, Edwardsville
DESCRIPTION:Metro East Cluster meets 4th Saturday monthly 9:00 a.m. @ First Baptist Church\, Edwardsville
URL:https://abcgrr.org/event/metro-east-cluster-meets-4th-saturday-monthly-900-a-m-first-baptist-church-edwardsville/2027-12-25/
ORGANIZER;CN="Rev Dr. F. Delano R. Benson Jr.%2C D.Min":MAILTO:abc.grr.area5@gmail.com
END:VEVENT
BEGIN:VEVENT
DTSTART;TZID=America/Chicago:20280108T090000
DTEND;TZID=America/Chicago:20280108T110000
DTSTAMP:20260421T075946
CREATED:20241024T183753Z
LAST-MODIFIED:20241024T183755Z
UID:10000659-1830934800-1830942000@abcgrr.org
SUMMARY:Kansas City Cluster meets 2nd Saturday monthly @ various locations 9:00 a.m.
DESCRIPTION:Kansas City Cluster meets 2nd Saturday monthly @ various locations 9:00 a.m.
URL:https://abcgrr.org/event/kansas-city-cluster-meets-2nd-saturday-monthly-various-locations-900-a-m/2028-01-08/
ORGANIZER;CN="Rev Dr. F. Delano R. Benson Jr.%2C D.Min":MAILTO:abc.grr.area5@gmail.com
END:VEVENT
BEGIN:VEVENT
DTSTART;TZID=America/Chicago:20280110T113000
DTEND;TZID=America/Chicago:20280110T133000
DTSTAMP:20260421T075946
CREATED:20241024T183212Z
LAST-MODIFIED:20241024T183213Z
UID:10000599-1831116600-1831123800@abcgrr.org
SUMMARY:St. Louis Cluster meets 2nd Monday monthly @ Second Baptist Church           St. Louis (Clayton) @ 11:30 a.m.
DESCRIPTION:St. Louis Cluster meets 2nd Monday monthly @ Second Baptist Church St. Louis (Clayton) @ 11:30 a.m.
URL:https://abcgrr.org/event/st-louis-cluster-meets-2nd-monday-monthly-second-baptist-church-st-louis-clayton-1130-a-m/2028-01-10/
ORGANIZER;CN="Rev Dr. F. Delano R. Benson Jr.%2C D.Min":MAILTO:abc.grr.area5@gmail.com
END:VEVENT
BEGIN:VEVENT
DTSTART;TZID=America/Chicago:20280122T090000
DTEND;TZID=America/Chicago:20280122T110000
DTSTAMP:20260421T075946
CREATED:20241024T183005Z
LAST-MODIFIED:20241024T183007Z
UID:10000540-1832144400-1832151600@abcgrr.org
SUMMARY:Metro East Cluster meets 4th Saturday monthly 9:00 a.m. @ First Baptist Church\, Edwardsville
DESCRIPTION:Metro East Cluster meets 4th Saturday monthly 9:00 a.m. @ First Baptist Church\, Edwardsville
URL:https://abcgrr.org/event/metro-east-cluster-meets-4th-saturday-monthly-900-a-m-first-baptist-church-edwardsville/2028-01-22/
ORGANIZER;CN="Rev Dr. F. Delano R. Benson Jr.%2C D.Min":MAILTO:abc.grr.area5@gmail.com
END:VEVENT
BEGIN:VEVENT
DTSTART;TZID=America/Chicago:20280212T090000
DTEND;TZID=America/Chicago:20280212T110000
DTSTAMP:20260421T075946
CREATED:20241024T183753Z
LAST-MODIFIED:20241024T183755Z
UID:10000660-1833958800-1833966000@abcgrr.org
SUMMARY:Kansas City Cluster meets 2nd Saturday monthly @ various locations 9:00 a.m.
DESCRIPTION:Kansas City Cluster meets 2nd Saturday monthly @ various locations 9:00 a.m.
URL:https://abcgrr.org/event/kansas-city-cluster-meets-2nd-saturday-monthly-various-locations-900-a-m/2028-02-12/
ORGANIZER;CN="Rev Dr. F. Delano R. Benson Jr.%2C D.Min":MAILTO:abc.grr.area5@gmail.com
END:VEVENT
BEGIN:VEVENT
DTSTART;TZID=America/Chicago:20280214T113000
DTEND;TZID=America/Chicago:20280214T133000
DTSTAMP:20260421T075946
CREATED:20241024T183212Z
LAST-MODIFIED:20241024T183213Z
UID:10000600-1834140600-1834147800@abcgrr.org
SUMMARY:St. Louis Cluster meets 2nd Monday monthly @ Second Baptist Church           St. Louis (Clayton) @ 11:30 a.m.
DESCRIPTION:St. Louis Cluster meets 2nd Monday monthly @ Second Baptist Church St. Louis (Clayton) @ 11:30 a.m.
URL:https://abcgrr.org/event/st-louis-cluster-meets-2nd-monday-monthly-second-baptist-church-st-louis-clayton-1130-a-m/2028-02-14/
ORGANIZER;CN="Rev Dr. F. Delano R. Benson Jr.%2C D.Min":MAILTO:abc.grr.area5@gmail.com
END:VEVENT
BEGIN:VEVENT
DTSTART;TZID=America/Chicago:20280226T090000
DTEND;TZID=America/Chicago:20280226T110000
DTSTAMP:20260421T075946
CREATED:20241024T183005Z
LAST-MODIFIED:20241024T183007Z
UID:10000541-1835168400-1835175600@abcgrr.org
SUMMARY:Metro East Cluster meets 4th Saturday monthly 9:00 a.m. @ First Baptist Church\, Edwardsville
DESCRIPTION:Metro East Cluster meets 4th Saturday monthly 9:00 a.m. @ First Baptist Church\, Edwardsville
URL:https://abcgrr.org/event/metro-east-cluster-meets-4th-saturday-monthly-900-a-m-first-baptist-church-edwardsville/2028-02-26/
ORGANIZER;CN="Rev Dr. F. Delano R. Benson Jr.%2C D.Min":MAILTO:abc.grr.area5@gmail.com
END:VEVENT
BEGIN:VEVENT
DTSTART;TZID=America/Chicago:20280311T090000
DTEND;TZID=America/Chicago:20280311T110000
DTSTAMP:20260421T075946
CREATED:20241024T183753Z
LAST-MODIFIED:20241024T183755Z
UID:10000661-1836378000-1836385200@abcgrr.org
SUMMARY:Kansas City Cluster meets 2nd Saturday monthly @ various locations 9:00 a.m.
DESCRIPTION:Kansas City Cluster meets 2nd Saturday monthly @ various locations 9:00 a.m.
URL:https://abcgrr.org/event/kansas-city-cluster-meets-2nd-saturday-monthly-various-locations-900-a-m/2028-03-11/
ORGANIZER;CN="Rev Dr. F. Delano R. Benson Jr.%2C D.Min":MAILTO:abc.grr.area5@gmail.com
END:VEVENT
BEGIN:VEVENT
DTSTART;TZID=America/Chicago:20280313T113000
DTEND;TZID=America/Chicago:20280313T133000
DTSTAMP:20260421T075946
CREATED:20241024T183212Z
LAST-MODIFIED:20241024T183213Z
UID:10000601-1836559800-1836567000@abcgrr.org
SUMMARY:St. Louis Cluster meets 2nd Monday monthly @ Second Baptist Church           St. Louis (Clayton) @ 11:30 a.m.
DESCRIPTION:St. Louis Cluster meets 2nd Monday monthly @ Second Baptist Church St. Louis (Clayton) @ 11:30 a.m.
URL:https://abcgrr.org/event/st-louis-cluster-meets-2nd-monday-monthly-second-baptist-church-st-louis-clayton-1130-a-m/2028-03-13/
ORGANIZER;CN="Rev Dr. F. Delano R. Benson Jr.%2C D.Min":MAILTO:abc.grr.area5@gmail.com
END:VEVENT
BEGIN:VEVENT
DTSTART;TZID=America/Chicago:20280325T090000
DTEND;TZID=America/Chicago:20280325T110000
DTSTAMP:20260421T075946
CREATED:20241024T183005Z
LAST-MODIFIED:20241024T183007Z
UID:10000542-1837587600-1837594800@abcgrr.org
SUMMARY:Metro East Cluster meets 4th Saturday monthly 9:00 a.m. @ First Baptist Church\, Edwardsville
DESCRIPTION:Metro East Cluster meets 4th Saturday monthly 9:00 a.m. @ First Baptist Church\, Edwardsville
URL:https://abcgrr.org/event/metro-east-cluster-meets-4th-saturday-monthly-900-a-m-first-baptist-church-edwardsville/2028-03-25/
ORGANIZER;CN="Rev Dr. F. Delano R. Benson Jr.%2C D.Min":MAILTO:abc.grr.area5@gmail.com
END:VEVENT
BEGIN:VEVENT
DTSTART;TZID=America/Chicago:20280408T090000
DTEND;TZID=America/Chicago:20280408T110000
DTSTAMP:20260421T075946
CREATED:20241024T183753Z
LAST-MODIFIED:20241024T183755Z
UID:10000662-1838797200-1838804400@abcgrr.org
SUMMARY:Kansas City Cluster meets 2nd Saturday monthly @ various locations 9:00 a.m.
DESCRIPTION:Kansas City Cluster meets 2nd Saturday monthly @ various locations 9:00 a.m.
URL:https://abcgrr.org/event/kansas-city-cluster-meets-2nd-saturday-monthly-various-locations-900-a-m/2028-04-08/
ORGANIZER;CN="Rev Dr. F. Delano R. Benson Jr.%2C D.Min":MAILTO:abc.grr.area5@gmail.com
END:VEVENT
BEGIN:VEVENT
DTSTART;TZID=America/Chicago:20280410T113000
DTEND;TZID=America/Chicago:20280410T133000
DTSTAMP:20260421T075946
CREATED:20241024T183212Z
LAST-MODIFIED:20241024T183213Z
UID:10000602-1838979000-1838986200@abcgrr.org
SUMMARY:St. Louis Cluster meets 2nd Monday monthly @ Second Baptist Church           St. Louis (Clayton) @ 11:30 a.m.
DESCRIPTION:St. Louis Cluster meets 2nd Monday monthly @ Second Baptist Church St. Louis (Clayton) @ 11:30 a.m.
URL:https://abcgrr.org/event/st-louis-cluster-meets-2nd-monday-monthly-second-baptist-church-st-louis-clayton-1130-a-m/2028-04-10/
ORGANIZER;CN="Rev Dr. F. Delano R. Benson Jr.%2C D.Min":MAILTO:abc.grr.area5@gmail.com
END:VEVENT
BEGIN:VEVENT
DTSTART;TZID=America/Chicago:20280422T090000
DTEND;TZID=America/Chicago:20280422T110000
DTSTAMP:20260421T075946
CREATED:20241024T183005Z
LAST-MODIFIED:20241024T183007Z
UID:10000543-1840006800-1840014000@abcgrr.org
SUMMARY:Metro East Cluster meets 4th Saturday monthly 9:00 a.m. @ First Baptist Church\, Edwardsville
DESCRIPTION:Metro East Cluster meets 4th Saturday monthly 9:00 a.m. @ First Baptist Church\, Edwardsville
URL:https://abcgrr.org/event/metro-east-cluster-meets-4th-saturday-monthly-900-a-m-first-baptist-church-edwardsville/2028-04-22/
ORGANIZER;CN="Rev Dr. F. Delano R. Benson Jr.%2C D.Min":MAILTO:abc.grr.area5@gmail.com
END:VEVENT
BEGIN:VEVENT
DTSTART;TZID=America/Chicago:20280508T113000
DTEND;TZID=America/Chicago:20280508T133000
DTSTAMP:20260421T075946
CREATED:20241024T183212Z
LAST-MODIFIED:20241024T183213Z
UID:10000603-1841398200-1841405400@abcgrr.org
SUMMARY:St. Louis Cluster meets 2nd Monday monthly @ Second Baptist Church           St. Louis (Clayton) @ 11:30 a.m.
DESCRIPTION:St. Louis Cluster meets 2nd Monday monthly @ Second Baptist Church St. Louis (Clayton) @ 11:30 a.m.
URL:https://abcgrr.org/event/st-louis-cluster-meets-2nd-monday-monthly-second-baptist-church-st-louis-clayton-1130-a-m/2028-05-08/
ORGANIZER;CN="Rev Dr. F. Delano R. Benson Jr.%2C D.Min":MAILTO:abc.grr.area5@gmail.com
END:VEVENT
BEGIN:VEVENT
DTSTART;TZID=America/Chicago:20280513T090000
DTEND;TZID=America/Chicago:20280513T110000
DTSTAMP:20260421T075946
CREATED:20241024T183753Z
LAST-MODIFIED:20241024T183755Z
UID:10000663-1841821200-1841828400@abcgrr.org
SUMMARY:Kansas City Cluster meets 2nd Saturday monthly @ various locations 9:00 a.m.
DESCRIPTION:Kansas City Cluster meets 2nd Saturday monthly @ various locations 9:00 a.m.
URL:https://abcgrr.org/event/kansas-city-cluster-meets-2nd-saturday-monthly-various-locations-900-a-m/2028-05-13/
ORGANIZER;CN="Rev Dr. F. Delano R. Benson Jr.%2C D.Min":MAILTO:abc.grr.area5@gmail.com
END:VEVENT
BEGIN:VEVENT
DTSTART;TZID=America/Chicago:20280527T090000
DTEND;TZID=America/Chicago:20280527T110000
DTSTAMP:20260421T075946
CREATED:20241024T183005Z
LAST-MODIFIED:20241024T183007Z
UID:10000544-1843030800-1843038000@abcgrr.org
SUMMARY:Metro East Cluster meets 4th Saturday monthly 9:00 a.m. @ First Baptist Church\, Edwardsville
DESCRIPTION:Metro East Cluster meets 4th Saturday monthly 9:00 a.m. @ First Baptist Church\, Edwardsville
URL:https://abcgrr.org/event/metro-east-cluster-meets-4th-saturday-monthly-900-a-m-first-baptist-church-edwardsville/2028-05-27/
ORGANIZER;CN="Rev Dr. F. Delano R. Benson Jr.%2C D.Min":MAILTO:abc.grr.area5@gmail.com
END:VEVENT
BEGIN:VEVENT
DTSTART;TZID=America/Chicago:20280610T090000
DTEND;TZID=America/Chicago:20280610T110000
DTSTAMP:20260421T075946
CREATED:20241024T183753Z
LAST-MODIFIED:20241024T183755Z
UID:10000664-1844240400-1844247600@abcgrr.org
SUMMARY:Kansas City Cluster meets 2nd Saturday monthly @ various locations 9:00 a.m.
DESCRIPTION:Kansas City Cluster meets 2nd Saturday monthly @ various locations 9:00 a.m.
URL:https://abcgrr.org/event/kansas-city-cluster-meets-2nd-saturday-monthly-various-locations-900-a-m/2028-06-10/
ORGANIZER;CN="Rev Dr. F. Delano R. Benson Jr.%2C D.Min":MAILTO:abc.grr.area5@gmail.com
END:VEVENT
BEGIN:VEVENT
DTSTART;TZID=America/Chicago:20280612T113000
DTEND;TZID=America/Chicago:20280612T133000
DTSTAMP:20260421T075946
CREATED:20241024T183212Z
LAST-MODIFIED:20241024T183213Z
UID:10000604-1844422200-1844429400@abcgrr.org
SUMMARY:St. Louis Cluster meets 2nd Monday monthly @ Second Baptist Church           St. Louis (Clayton) @ 11:30 a.m.
DESCRIPTION:St. Louis Cluster meets 2nd Monday monthly @ Second Baptist Church St. Louis (Clayton) @ 11:30 a.m.
URL:https://abcgrr.org/event/st-louis-cluster-meets-2nd-monday-monthly-second-baptist-church-st-louis-clayton-1130-a-m/2028-06-12/
ORGANIZER;CN="Rev Dr. F. Delano R. Benson Jr.%2C D.Min":MAILTO:abc.grr.area5@gmail.com
END:VEVENT
BEGIN:VEVENT
DTSTART;TZID=America/Chicago:20280624T090000
DTEND;TZID=America/Chicago:20280624T110000
DTSTAMP:20260421T075946
CREATED:20241024T183005Z
LAST-MODIFIED:20241024T183007Z
UID:10000545-1845450000-1845457200@abcgrr.org
SUMMARY:Metro East Cluster meets 4th Saturday monthly 9:00 a.m. @ First Baptist Church\, Edwardsville
DESCRIPTION:Metro East Cluster meets 4th Saturday monthly 9:00 a.m. @ First Baptist Church\, Edwardsville
URL:https://abcgrr.org/event/metro-east-cluster-meets-4th-saturday-monthly-900-a-m-first-baptist-church-edwardsville/2028-06-24/
ORGANIZER;CN="Rev Dr. F. Delano R. Benson Jr.%2C D.Min":MAILTO:abc.grr.area5@gmail.com
END:VEVENT
BEGIN:VEVENT
DTSTART;TZID=America/Chicago:20280708T090000
DTEND;TZID=America/Chicago:20280708T110000
DTSTAMP:20260421T075946
CREATED:20241024T183753Z
LAST-MODIFIED:20241024T183755Z
UID:10000665-1846659600-1846666800@abcgrr.org
SUMMARY:Kansas City Cluster meets 2nd Saturday monthly @ various locations 9:00 a.m.
DESCRIPTION:Kansas City Cluster meets 2nd Saturday monthly @ various locations 9:00 a.m.
URL:https://abcgrr.org/event/kansas-city-cluster-meets-2nd-saturday-monthly-various-locations-900-a-m/2028-07-08/
ORGANIZER;CN="Rev Dr. F. Delano R. Benson Jr.%2C D.Min":MAILTO:abc.grr.area5@gmail.com
END:VEVENT
BEGIN:VEVENT
DTSTART;TZID=America/Chicago:20280710T113000
DTEND;TZID=America/Chicago:20280710T133000
DTSTAMP:20260421T075946
CREATED:20241024T183212Z
LAST-MODIFIED:20241024T183213Z
UID:10000605-1846841400-1846848600@abcgrr.org
SUMMARY:St. Louis Cluster meets 2nd Monday monthly @ Second Baptist Church           St. Louis (Clayton) @ 11:30 a.m.
DESCRIPTION:St. Louis Cluster meets 2nd Monday monthly @ Second Baptist Church St. Louis (Clayton) @ 11:30 a.m.
URL:https://abcgrr.org/event/st-louis-cluster-meets-2nd-monday-monthly-second-baptist-church-st-louis-clayton-1130-a-m/2028-07-10/
ORGANIZER;CN="Rev Dr. F. Delano R. Benson Jr.%2C D.Min":MAILTO:abc.grr.area5@gmail.com
END:VEVENT
BEGIN:VEVENT
DTSTART;TZID=America/Chicago:20280722T090000
DTEND;TZID=America/Chicago:20280722T110000
DTSTAMP:20260421T075946
CREATED:20241024T183005Z
LAST-MODIFIED:20241024T183007Z
UID:10000546-1847869200-1847876400@abcgrr.org
SUMMARY:Metro East Cluster meets 4th Saturday monthly 9:00 a.m. @ First Baptist Church\, Edwardsville
DESCRIPTION:Metro East Cluster meets 4th Saturday monthly 9:00 a.m. @ First Baptist Church\, Edwardsville
URL:https://abcgrr.org/event/metro-east-cluster-meets-4th-saturday-monthly-900-a-m-first-baptist-church-edwardsville/2028-07-22/
ORGANIZER;CN="Rev Dr. F. Delano R. Benson Jr.%2C D.Min":MAILTO:abc.grr.area5@gmail.com
END:VEVENT
BEGIN:VEVENT
DTSTART;TZID=America/Chicago:20280812T090000
DTEND;TZID=America/Chicago:20280812T110000
DTSTAMP:20260421T075946
CREATED:20241024T183753Z
LAST-MODIFIED:20241024T183755Z
UID:10000666-1849683600-1849690800@abcgrr.org
SUMMARY:Kansas City Cluster meets 2nd Saturday monthly @ various locations 9:00 a.m.
DESCRIPTION:Kansas City Cluster meets 2nd Saturday monthly @ various locations 9:00 a.m.
URL:https://abcgrr.org/event/kansas-city-cluster-meets-2nd-saturday-monthly-various-locations-900-a-m/2028-08-12/
ORGANIZER;CN="Rev Dr. F. Delano R. Benson Jr.%2C D.Min":MAILTO:abc.grr.area5@gmail.com
END:VEVENT
BEGIN:VEVENT
DTSTART;TZID=America/Chicago:20280814T113000
DTEND;TZID=America/Chicago:20280814T133000
DTSTAMP:20260421T075946
CREATED:20241024T183212Z
LAST-MODIFIED:20241024T183213Z
UID:10000606-1849865400-1849872600@abcgrr.org
SUMMARY:St. Louis Cluster meets 2nd Monday monthly @ Second Baptist Church           St. Louis (Clayton) @ 11:30 a.m.
DESCRIPTION:St. Louis Cluster meets 2nd Monday monthly @ Second Baptist Church St. Louis (Clayton) @ 11:30 a.m.
URL:https://abcgrr.org/event/st-louis-cluster-meets-2nd-monday-monthly-second-baptist-church-st-louis-clayton-1130-a-m/2028-08-14/
ORGANIZER;CN="Rev Dr. F. Delano R. Benson Jr.%2C D.Min":MAILTO:abc.grr.area5@gmail.com
END:VEVENT
BEGIN:VEVENT
DTSTART;TZID=America/Chicago:20280826T090000
DTEND;TZID=America/Chicago:20280826T110000
DTSTAMP:20260421T075946
CREATED:20241024T183005Z
LAST-MODIFIED:20241024T183007Z
UID:10000547-1850893200-1850900400@abcgrr.org
SUMMARY:Metro East Cluster meets 4th Saturday monthly 9:00 a.m. @ First Baptist Church\, Edwardsville
DESCRIPTION:Metro East Cluster meets 4th Saturday monthly 9:00 a.m. @ First Baptist Church\, Edwardsville
URL:https://abcgrr.org/event/metro-east-cluster-meets-4th-saturday-monthly-900-a-m-first-baptist-church-edwardsville/2028-08-26/
ORGANIZER;CN="Rev Dr. F. Delano R. Benson Jr.%2C D.Min":MAILTO:abc.grr.area5@gmail.com
END:VEVENT
BEGIN:VEVENT
DTSTART;TZID=America/Chicago:20280909T090000
DTEND;TZID=America/Chicago:20280909T110000
DTSTAMP:20260421T075946
CREATED:20241024T183753Z
LAST-MODIFIED:20241024T183755Z
UID:10000667-1852102800-1852110000@abcgrr.org
SUMMARY:Kansas City Cluster meets 2nd Saturday monthly @ various locations 9:00 a.m.
DESCRIPTION:Kansas City Cluster meets 2nd Saturday monthly @ various locations 9:00 a.m.
URL:https://abcgrr.org/event/kansas-city-cluster-meets-2nd-saturday-monthly-various-locations-900-a-m/2028-09-09/
ORGANIZER;CN="Rev Dr. F. Delano R. Benson Jr.%2C D.Min":MAILTO:abc.grr.area5@gmail.com
END:VEVENT
BEGIN:VEVENT
DTSTART;TZID=America/Chicago:20280911T113000
DTEND;TZID=America/Chicago:20280911T133000
DTSTAMP:20260421T075946
CREATED:20241024T183212Z
LAST-MODIFIED:20241024T183213Z
UID:10000607-1852284600-1852291800@abcgrr.org
SUMMARY:St. Louis Cluster meets 2nd Monday monthly @ Second Baptist Church           St. Louis (Clayton) @ 11:30 a.m.
DESCRIPTION:St. Louis Cluster meets 2nd Monday monthly @ Second Baptist Church St. Louis (Clayton) @ 11:30 a.m.
URL:https://abcgrr.org/event/st-louis-cluster-meets-2nd-monday-monthly-second-baptist-church-st-louis-clayton-1130-a-m/2028-09-11/
ORGANIZER;CN="Rev Dr. F. Delano R. Benson Jr.%2C D.Min":MAILTO:abc.grr.area5@gmail.com
END:VEVENT
BEGIN:VEVENT
DTSTART;TZID=America/Chicago:20280923T090000
DTEND;TZID=America/Chicago:20280923T110000
DTSTAMP:20260421T075946
CREATED:20241024T183005Z
LAST-MODIFIED:20241024T183007Z
UID:10000548-1853312400-1853319600@abcgrr.org
SUMMARY:Metro East Cluster meets 4th Saturday monthly 9:00 a.m. @ First Baptist Church\, Edwardsville
DESCRIPTION:Metro East Cluster meets 4th Saturday monthly 9:00 a.m. @ First Baptist Church\, Edwardsville
URL:https://abcgrr.org/event/metro-east-cluster-meets-4th-saturday-monthly-900-a-m-first-baptist-church-edwardsville/2028-09-23/
ORGANIZER;CN="Rev Dr. F. Delano R. Benson Jr.%2C D.Min":MAILTO:abc.grr.area5@gmail.com
END:VEVENT
BEGIN:VEVENT
DTSTART;TZID=America/Chicago:20281009T113000
DTEND;TZID=America/Chicago:20281009T133000
DTSTAMP:20260421T075946
CREATED:20241024T183212Z
LAST-MODIFIED:20241024T183213Z
UID:10000608-1854703800-1854711000@abcgrr.org
SUMMARY:St. Louis Cluster meets 2nd Monday monthly @ Second Baptist Church           St. Louis (Clayton) @ 11:30 a.m.
DESCRIPTION:St. Louis Cluster meets 2nd Monday monthly @ Second Baptist Church St. Louis (Clayton) @ 11:30 a.m.
URL:https://abcgrr.org/event/st-louis-cluster-meets-2nd-monday-monthly-second-baptist-church-st-louis-clayton-1130-a-m/2028-10-09/
ORGANIZER;CN="Rev Dr. F. Delano R. Benson Jr.%2C D.Min":MAILTO:abc.grr.area5@gmail.com
END:VEVENT
BEGIN:VEVENT
DTSTART;TZID=America/Chicago:20281014T090000
DTEND;TZID=America/Chicago:20281014T110000
DTSTAMP:20260421T075946
CREATED:20241024T183753Z
LAST-MODIFIED:20241024T183755Z
UID:10000668-1855126800-1855134000@abcgrr.org
SUMMARY:Kansas City Cluster meets 2nd Saturday monthly @ various locations 9:00 a.m.
DESCRIPTION:Kansas City Cluster meets 2nd Saturday monthly @ various locations 9:00 a.m.
URL:https://abcgrr.org/event/kansas-city-cluster-meets-2nd-saturday-monthly-various-locations-900-a-m/2028-10-14/
ORGANIZER;CN="Rev Dr. F. Delano R. Benson Jr.%2C D.Min":MAILTO:abc.grr.area5@gmail.com
END:VEVENT
END:VCALENDAR