BEGIN:VCALENDAR
VERSION:2.0
PRODID:-//American Baptist Churches of the Great River Region - ECPv6.15.20//NONSGML v1.0//EN
CALSCALE:GREGORIAN
METHOD:PUBLISH
X-WR-CALNAME:American Baptist Churches of the Great River Region
X-ORIGINAL-URL:https://abcgrr.org
X-WR-CALDESC:Events for American Baptist Churches of the Great River Region
REFRESH-INTERVAL;VALUE=DURATION:PT1H
X-Robots-Tag:noindex
X-PUBLISHED-TTL:PT1H
BEGIN:VTIMEZONE
TZID:America/Chicago
BEGIN:DAYLIGHT
TZOFFSETFROM:-0600
TZOFFSETTO:-0500
TZNAME:CDT
DTSTART:20250309T080000
END:DAYLIGHT
BEGIN:STANDARD
TZOFFSETFROM:-0500
TZOFFSETTO:-0600
TZNAME:CST
DTSTART:20251102T070000
END:STANDARD
BEGIN:DAYLIGHT
TZOFFSETFROM:-0600
TZOFFSETTO:-0500
TZNAME:CDT
DTSTART:20260308T080000
END:DAYLIGHT
BEGIN:STANDARD
TZOFFSETFROM:-0500
TZOFFSETTO:-0600
TZNAME:CST
DTSTART:20261101T070000
END:STANDARD
BEGIN:DAYLIGHT
TZOFFSETFROM:-0600
TZOFFSETTO:-0500
TZNAME:CDT
DTSTART:20270314T080000
END:DAYLIGHT
BEGIN:STANDARD
TZOFFSETFROM:-0500
TZOFFSETTO:-0600
TZNAME:CST
DTSTART:20271107T070000
END:STANDARD
BEGIN:DAYLIGHT
TZOFFSETFROM:-0600
TZOFFSETTO:-0500
TZNAME:CDT
DTSTART:20280312T080000
END:DAYLIGHT
BEGIN:STANDARD
TZOFFSETFROM:-0500
TZOFFSETTO:-0600
TZNAME:CST
DTSTART:20281105T070000
END:STANDARD
END:VTIMEZONE
BEGIN:VEVENT
DTSTART;TZID=America/Chicago:20260608T113000
DTEND;TZID=America/Chicago:20260608T133000
DTSTAMP:20260420T110429
CREATED:20241024T183212Z
LAST-MODIFIED:20241024T183213Z
UID:10000580-1780918200-1780925400@abcgrr.org
SUMMARY:St. Louis Cluster meets 2nd Monday monthly @ Second Baptist Church           St. Louis (Clayton) @ 11:30 a.m.
DESCRIPTION:St. Louis Cluster meets 2nd Monday monthly @ Second Baptist Church St. Louis (Clayton) @ 11:30 a.m.
URL:https://abcgrr.org/event/st-louis-cluster-meets-2nd-monday-monthly-second-baptist-church-st-louis-clayton-1130-a-m/2026-06-08/
ORGANIZER;CN="Rev Dr. F. Delano R. Benson Jr.%2C D.Min":MAILTO:abc.grr.area5@gmail.com
END:VEVENT
BEGIN:VEVENT
DTSTART;TZID=America/Chicago:20260613T090000
DTEND;TZID=America/Chicago:20260613T110000
DTSTAMP:20260420T110429
CREATED:20241024T183753Z
LAST-MODIFIED:20241024T183755Z
UID:10000640-1781341200-1781348400@abcgrr.org
SUMMARY:Kansas City Cluster meets 2nd Saturday monthly @ various locations 9:00 a.m.
DESCRIPTION:Kansas City Cluster meets 2nd Saturday monthly @ various locations 9:00 a.m.
URL:https://abcgrr.org/event/kansas-city-cluster-meets-2nd-saturday-monthly-various-locations-900-a-m/2026-06-13/
ORGANIZER;CN="Rev Dr. F. Delano R. Benson Jr.%2C D.Min":MAILTO:abc.grr.area5@gmail.com
END:VEVENT
BEGIN:VEVENT
DTSTART;TZID=America/Chicago:20260627T090000
DTEND;TZID=America/Chicago:20260627T110000
DTSTAMP:20260420T110429
CREATED:20241024T183005Z
LAST-MODIFIED:20241024T183007Z
UID:10000521-1782550800-1782558000@abcgrr.org
SUMMARY:Metro East Cluster meets 4th Saturday monthly 9:00 a.m. @ First Baptist Church\, Edwardsville
DESCRIPTION:Metro East Cluster meets 4th Saturday monthly 9:00 a.m. @ First Baptist Church\, Edwardsville
URL:https://abcgrr.org/event/metro-east-cluster-meets-4th-saturday-monthly-900-a-m-first-baptist-church-edwardsville/2026-06-27/
ORGANIZER;CN="Rev Dr. F. Delano R. Benson Jr.%2C D.Min":MAILTO:abc.grr.area5@gmail.com
END:VEVENT
BEGIN:VEVENT
DTSTART;TZID=America/Chicago:20260711T090000
DTEND;TZID=America/Chicago:20260711T110000
DTSTAMP:20260420T110429
CREATED:20241024T183753Z
LAST-MODIFIED:20241024T183755Z
UID:10000641-1783760400-1783767600@abcgrr.org
SUMMARY:Kansas City Cluster meets 2nd Saturday monthly @ various locations 9:00 a.m.
DESCRIPTION:Kansas City Cluster meets 2nd Saturday monthly @ various locations 9:00 a.m.
URL:https://abcgrr.org/event/kansas-city-cluster-meets-2nd-saturday-monthly-various-locations-900-a-m/2026-07-11/
ORGANIZER;CN="Rev Dr. F. Delano R. Benson Jr.%2C D.Min":MAILTO:abc.grr.area5@gmail.com
END:VEVENT
BEGIN:VEVENT
DTSTART;TZID=America/Chicago:20260713T113000
DTEND;TZID=America/Chicago:20260713T133000
DTSTAMP:20260420T110429
CREATED:20241024T183212Z
LAST-MODIFIED:20241024T183213Z
UID:10000581-1783942200-1783949400@abcgrr.org
SUMMARY:St. Louis Cluster meets 2nd Monday monthly @ Second Baptist Church           St. Louis (Clayton) @ 11:30 a.m.
DESCRIPTION:St. Louis Cluster meets 2nd Monday monthly @ Second Baptist Church St. Louis (Clayton) @ 11:30 a.m.
URL:https://abcgrr.org/event/st-louis-cluster-meets-2nd-monday-monthly-second-baptist-church-st-louis-clayton-1130-a-m/2026-07-13/
ORGANIZER;CN="Rev Dr. F. Delano R. Benson Jr.%2C D.Min":MAILTO:abc.grr.area5@gmail.com
END:VEVENT
BEGIN:VEVENT
DTSTART;TZID=America/Chicago:20260725T090000
DTEND;TZID=America/Chicago:20260725T110000
DTSTAMP:20260420T110429
CREATED:20241024T183005Z
LAST-MODIFIED:20241024T183007Z
UID:10000522-1784970000-1784977200@abcgrr.org
SUMMARY:Metro East Cluster meets 4th Saturday monthly 9:00 a.m. @ First Baptist Church\, Edwardsville
DESCRIPTION:Metro East Cluster meets 4th Saturday monthly 9:00 a.m. @ First Baptist Church\, Edwardsville
URL:https://abcgrr.org/event/metro-east-cluster-meets-4th-saturday-monthly-900-a-m-first-baptist-church-edwardsville/2026-07-25/
ORGANIZER;CN="Rev Dr. F. Delano R. Benson Jr.%2C D.Min":MAILTO:abc.grr.area5@gmail.com
END:VEVENT
BEGIN:VEVENT
DTSTART;TZID=America/Chicago:20260808T090000
DTEND;TZID=America/Chicago:20260808T110000
DTSTAMP:20260420T110429
CREATED:20241024T183753Z
LAST-MODIFIED:20241024T183755Z
UID:10000642-1786179600-1786186800@abcgrr.org
SUMMARY:Kansas City Cluster meets 2nd Saturday monthly @ various locations 9:00 a.m.
DESCRIPTION:Kansas City Cluster meets 2nd Saturday monthly @ various locations 9:00 a.m.
URL:https://abcgrr.org/event/kansas-city-cluster-meets-2nd-saturday-monthly-various-locations-900-a-m/2026-08-08/
ORGANIZER;CN="Rev Dr. F. Delano R. Benson Jr.%2C D.Min":MAILTO:abc.grr.area5@gmail.com
END:VEVENT
BEGIN:VEVENT
DTSTART;TZID=America/Chicago:20260810T113000
DTEND;TZID=America/Chicago:20260810T133000
DTSTAMP:20260420T110429
CREATED:20241024T183212Z
LAST-MODIFIED:20241024T183213Z
UID:10000582-1786361400-1786368600@abcgrr.org
SUMMARY:St. Louis Cluster meets 2nd Monday monthly @ Second Baptist Church           St. Louis (Clayton) @ 11:30 a.m.
DESCRIPTION:St. Louis Cluster meets 2nd Monday monthly @ Second Baptist Church St. Louis (Clayton) @ 11:30 a.m.
URL:https://abcgrr.org/event/st-louis-cluster-meets-2nd-monday-monthly-second-baptist-church-st-louis-clayton-1130-a-m/2026-08-10/
ORGANIZER;CN="Rev Dr. F. Delano R. Benson Jr.%2C D.Min":MAILTO:abc.grr.area5@gmail.com
END:VEVENT
BEGIN:VEVENT
DTSTART;TZID=America/Chicago:20260822T090000
DTEND;TZID=America/Chicago:20260822T110000
DTSTAMP:20260420T110429
CREATED:20241024T183005Z
LAST-MODIFIED:20241024T183007Z
UID:10000523-1787389200-1787396400@abcgrr.org
SUMMARY:Metro East Cluster meets 4th Saturday monthly 9:00 a.m. @ First Baptist Church\, Edwardsville
DESCRIPTION:Metro East Cluster meets 4th Saturday monthly 9:00 a.m. @ First Baptist Church\, Edwardsville
URL:https://abcgrr.org/event/metro-east-cluster-meets-4th-saturday-monthly-900-a-m-first-baptist-church-edwardsville/2026-08-22/
ORGANIZER;CN="Rev Dr. F. Delano R. Benson Jr.%2C D.Min":MAILTO:abc.grr.area5@gmail.com
END:VEVENT
BEGIN:VEVENT
DTSTART;TZID=America/Chicago:20260912T090000
DTEND;TZID=America/Chicago:20260912T110000
DTSTAMP:20260420T110429
CREATED:20241024T183753Z
LAST-MODIFIED:20241024T183755Z
UID:10000643-1789203600-1789210800@abcgrr.org
SUMMARY:Kansas City Cluster meets 2nd Saturday monthly @ various locations 9:00 a.m.
DESCRIPTION:Kansas City Cluster meets 2nd Saturday monthly @ various locations 9:00 a.m.
URL:https://abcgrr.org/event/kansas-city-cluster-meets-2nd-saturday-monthly-various-locations-900-a-m/2026-09-12/
ORGANIZER;CN="Rev Dr. F. Delano R. Benson Jr.%2C D.Min":MAILTO:abc.grr.area5@gmail.com
END:VEVENT
BEGIN:VEVENT
DTSTART;TZID=America/Chicago:20260914T113000
DTEND;TZID=America/Chicago:20260914T133000
DTSTAMP:20260420T110429
CREATED:20241024T183212Z
LAST-MODIFIED:20241024T183213Z
UID:10000583-1789385400-1789392600@abcgrr.org
SUMMARY:St. Louis Cluster meets 2nd Monday monthly @ Second Baptist Church           St. Louis (Clayton) @ 11:30 a.m.
DESCRIPTION:St. Louis Cluster meets 2nd Monday monthly @ Second Baptist Church St. Louis (Clayton) @ 11:30 a.m.
URL:https://abcgrr.org/event/st-louis-cluster-meets-2nd-monday-monthly-second-baptist-church-st-louis-clayton-1130-a-m/2026-09-14/
ORGANIZER;CN="Rev Dr. F. Delano R. Benson Jr.%2C D.Min":MAILTO:abc.grr.area5@gmail.com
END:VEVENT
BEGIN:VEVENT
DTSTART;TZID=America/Chicago:20260926T090000
DTEND;TZID=America/Chicago:20260926T110000
DTSTAMP:20260420T110429
CREATED:20241024T183005Z
LAST-MODIFIED:20241024T183007Z
UID:10000524-1790413200-1790420400@abcgrr.org
SUMMARY:Metro East Cluster meets 4th Saturday monthly 9:00 a.m. @ First Baptist Church\, Edwardsville
DESCRIPTION:Metro East Cluster meets 4th Saturday monthly 9:00 a.m. @ First Baptist Church\, Edwardsville
URL:https://abcgrr.org/event/metro-east-cluster-meets-4th-saturday-monthly-900-a-m-first-baptist-church-edwardsville/2026-09-26/
ORGANIZER;CN="Rev Dr. F. Delano R. Benson Jr.%2C D.Min":MAILTO:abc.grr.area5@gmail.com
END:VEVENT
BEGIN:VEVENT
DTSTART;TZID=America/Chicago:20261010T090000
DTEND;TZID=America/Chicago:20261010T110000
DTSTAMP:20260420T110429
CREATED:20241024T183753Z
LAST-MODIFIED:20241024T183755Z
UID:10000644-1791622800-1791630000@abcgrr.org
SUMMARY:Kansas City Cluster meets 2nd Saturday monthly @ various locations 9:00 a.m.
DESCRIPTION:Kansas City Cluster meets 2nd Saturday monthly @ various locations 9:00 a.m.
URL:https://abcgrr.org/event/kansas-city-cluster-meets-2nd-saturday-monthly-various-locations-900-a-m/2026-10-10/
ORGANIZER;CN="Rev Dr. F. Delano R. Benson Jr.%2C D.Min":MAILTO:abc.grr.area5@gmail.com
END:VEVENT
BEGIN:VEVENT
DTSTART;TZID=America/Chicago:20261012T113000
DTEND;TZID=America/Chicago:20261012T133000
DTSTAMP:20260420T110429
CREATED:20241024T183212Z
LAST-MODIFIED:20241024T183213Z
UID:10000584-1791804600-1791811800@abcgrr.org
SUMMARY:St. Louis Cluster meets 2nd Monday monthly @ Second Baptist Church           St. Louis (Clayton) @ 11:30 a.m.
DESCRIPTION:St. Louis Cluster meets 2nd Monday monthly @ Second Baptist Church St. Louis (Clayton) @ 11:30 a.m.
URL:https://abcgrr.org/event/st-louis-cluster-meets-2nd-monday-monthly-second-baptist-church-st-louis-clayton-1130-a-m/2026-10-12/
ORGANIZER;CN="Rev Dr. F. Delano R. Benson Jr.%2C D.Min":MAILTO:abc.grr.area5@gmail.com
END:VEVENT
BEGIN:VEVENT
DTSTART;TZID=America/Chicago:20261024T090000
DTEND;TZID=America/Chicago:20261024T110000
DTSTAMP:20260420T110429
CREATED:20241024T183005Z
LAST-MODIFIED:20241024T183007Z
UID:10000525-1792832400-1792839600@abcgrr.org
SUMMARY:Metro East Cluster meets 4th Saturday monthly 9:00 a.m. @ First Baptist Church\, Edwardsville
DESCRIPTION:Metro East Cluster meets 4th Saturday monthly 9:00 a.m. @ First Baptist Church\, Edwardsville
URL:https://abcgrr.org/event/metro-east-cluster-meets-4th-saturday-monthly-900-a-m-first-baptist-church-edwardsville/2026-10-24/
ORGANIZER;CN="Rev Dr. F. Delano R. Benson Jr.%2C D.Min":MAILTO:abc.grr.area5@gmail.com
END:VEVENT
BEGIN:VEVENT
DTSTART;TZID=America/Chicago:20261109T113000
DTEND;TZID=America/Chicago:20261109T133000
DTSTAMP:20260420T110429
CREATED:20241024T183212Z
LAST-MODIFIED:20241024T183213Z
UID:10000585-1794223800-1794231000@abcgrr.org
SUMMARY:St. Louis Cluster meets 2nd Monday monthly @ Second Baptist Church           St. Louis (Clayton) @ 11:30 a.m.
DESCRIPTION:St. Louis Cluster meets 2nd Monday monthly @ Second Baptist Church St. Louis (Clayton) @ 11:30 a.m.
URL:https://abcgrr.org/event/st-louis-cluster-meets-2nd-monday-monthly-second-baptist-church-st-louis-clayton-1130-a-m/2026-11-09/
ORGANIZER;CN="Rev Dr. F. Delano R. Benson Jr.%2C D.Min":MAILTO:abc.grr.area5@gmail.com
END:VEVENT
BEGIN:VEVENT
DTSTART;TZID=America/Chicago:20261114T090000
DTEND;TZID=America/Chicago:20261114T110000
DTSTAMP:20260420T110429
CREATED:20241024T183753Z
LAST-MODIFIED:20241024T183755Z
UID:10000645-1794646800-1794654000@abcgrr.org
SUMMARY:Kansas City Cluster meets 2nd Saturday monthly @ various locations 9:00 a.m.
DESCRIPTION:Kansas City Cluster meets 2nd Saturday monthly @ various locations 9:00 a.m.
URL:https://abcgrr.org/event/kansas-city-cluster-meets-2nd-saturday-monthly-various-locations-900-a-m/2026-11-14/
ORGANIZER;CN="Rev Dr. F. Delano R. Benson Jr.%2C D.Min":MAILTO:abc.grr.area5@gmail.com
END:VEVENT
BEGIN:VEVENT
DTSTART;TZID=America/Chicago:20261128T090000
DTEND;TZID=America/Chicago:20261128T110000
DTSTAMP:20260420T110429
CREATED:20241024T183005Z
LAST-MODIFIED:20241024T183007Z
UID:10000526-1795856400-1795863600@abcgrr.org
SUMMARY:Metro East Cluster meets 4th Saturday monthly 9:00 a.m. @ First Baptist Church\, Edwardsville
DESCRIPTION:Metro East Cluster meets 4th Saturday monthly 9:00 a.m. @ First Baptist Church\, Edwardsville
URL:https://abcgrr.org/event/metro-east-cluster-meets-4th-saturday-monthly-900-a-m-first-baptist-church-edwardsville/2026-11-28/
ORGANIZER;CN="Rev Dr. F. Delano R. Benson Jr.%2C D.Min":MAILTO:abc.grr.area5@gmail.com
END:VEVENT
BEGIN:VEVENT
DTSTART;TZID=America/Chicago:20261212T090000
DTEND;TZID=America/Chicago:20261212T110000
DTSTAMP:20260420T110429
CREATED:20241024T183753Z
LAST-MODIFIED:20241024T183755Z
UID:10000646-1797066000-1797073200@abcgrr.org
SUMMARY:Kansas City Cluster meets 2nd Saturday monthly @ various locations 9:00 a.m.
DESCRIPTION:Kansas City Cluster meets 2nd Saturday monthly @ various locations 9:00 a.m.
URL:https://abcgrr.org/event/kansas-city-cluster-meets-2nd-saturday-monthly-various-locations-900-a-m/2026-12-12/
ORGANIZER;CN="Rev Dr. F. Delano R. Benson Jr.%2C D.Min":MAILTO:abc.grr.area5@gmail.com
END:VEVENT
BEGIN:VEVENT
DTSTART;TZID=America/Chicago:20261214T113000
DTEND;TZID=America/Chicago:20261214T133000
DTSTAMP:20260420T110429
CREATED:20241024T183212Z
LAST-MODIFIED:20241024T183213Z
UID:10000586-1797247800-1797255000@abcgrr.org
SUMMARY:St. Louis Cluster meets 2nd Monday monthly @ Second Baptist Church           St. Louis (Clayton) @ 11:30 a.m.
DESCRIPTION:St. Louis Cluster meets 2nd Monday monthly @ Second Baptist Church St. Louis (Clayton) @ 11:30 a.m.
URL:https://abcgrr.org/event/st-louis-cluster-meets-2nd-monday-monthly-second-baptist-church-st-louis-clayton-1130-a-m/2026-12-14/
ORGANIZER;CN="Rev Dr. F. Delano R. Benson Jr.%2C D.Min":MAILTO:abc.grr.area5@gmail.com
END:VEVENT
BEGIN:VEVENT
DTSTART;TZID=America/Chicago:20261226T090000
DTEND;TZID=America/Chicago:20261226T110000
DTSTAMP:20260420T110429
CREATED:20241024T183005Z
LAST-MODIFIED:20241024T183007Z
UID:10000527-1798275600-1798282800@abcgrr.org
SUMMARY:Metro East Cluster meets 4th Saturday monthly 9:00 a.m. @ First Baptist Church\, Edwardsville
DESCRIPTION:Metro East Cluster meets 4th Saturday monthly 9:00 a.m. @ First Baptist Church\, Edwardsville
URL:https://abcgrr.org/event/metro-east-cluster-meets-4th-saturday-monthly-900-a-m-first-baptist-church-edwardsville/2026-12-26/
ORGANIZER;CN="Rev Dr. F. Delano R. Benson Jr.%2C D.Min":MAILTO:abc.grr.area5@gmail.com
END:VEVENT
BEGIN:VEVENT
DTSTART;TZID=America/Chicago:20270109T090000
DTEND;TZID=America/Chicago:20270109T110000
DTSTAMP:20260420T110429
CREATED:20241024T183753Z
LAST-MODIFIED:20241024T183755Z
UID:10000647-1799485200-1799492400@abcgrr.org
SUMMARY:Kansas City Cluster meets 2nd Saturday monthly @ various locations 9:00 a.m.
DESCRIPTION:Kansas City Cluster meets 2nd Saturday monthly @ various locations 9:00 a.m.
URL:https://abcgrr.org/event/kansas-city-cluster-meets-2nd-saturday-monthly-various-locations-900-a-m/2027-01-09/
ORGANIZER;CN="Rev Dr. F. Delano R. Benson Jr.%2C D.Min":MAILTO:abc.grr.area5@gmail.com
END:VEVENT
BEGIN:VEVENT
DTSTART;TZID=America/Chicago:20270111T113000
DTEND;TZID=America/Chicago:20270111T133000
DTSTAMP:20260420T110429
CREATED:20241024T183212Z
LAST-MODIFIED:20241024T183213Z
UID:10000587-1799667000-1799674200@abcgrr.org
SUMMARY:St. Louis Cluster meets 2nd Monday monthly @ Second Baptist Church           St. Louis (Clayton) @ 11:30 a.m.
DESCRIPTION:St. Louis Cluster meets 2nd Monday monthly @ Second Baptist Church St. Louis (Clayton) @ 11:30 a.m.
URL:https://abcgrr.org/event/st-louis-cluster-meets-2nd-monday-monthly-second-baptist-church-st-louis-clayton-1130-a-m/2027-01-11/
ORGANIZER;CN="Rev Dr. F. Delano R. Benson Jr.%2C D.Min":MAILTO:abc.grr.area5@gmail.com
END:VEVENT
BEGIN:VEVENT
DTSTART;TZID=America/Chicago:20270123T090000
DTEND;TZID=America/Chicago:20270123T110000
DTSTAMP:20260420T110429
CREATED:20241024T183005Z
LAST-MODIFIED:20241024T183007Z
UID:10000528-1800694800-1800702000@abcgrr.org
SUMMARY:Metro East Cluster meets 4th Saturday monthly 9:00 a.m. @ First Baptist Church\, Edwardsville
DESCRIPTION:Metro East Cluster meets 4th Saturday monthly 9:00 a.m. @ First Baptist Church\, Edwardsville
URL:https://abcgrr.org/event/metro-east-cluster-meets-4th-saturday-monthly-900-a-m-first-baptist-church-edwardsville/2027-01-23/
ORGANIZER;CN="Rev Dr. F. Delano R. Benson Jr.%2C D.Min":MAILTO:abc.grr.area5@gmail.com
END:VEVENT
BEGIN:VEVENT
DTSTART;TZID=America/Chicago:20270208T113000
DTEND;TZID=America/Chicago:20270208T133000
DTSTAMP:20260420T110429
CREATED:20241024T183212Z
LAST-MODIFIED:20241024T183213Z
UID:10000588-1802086200-1802093400@abcgrr.org
SUMMARY:St. Louis Cluster meets 2nd Monday monthly @ Second Baptist Church           St. Louis (Clayton) @ 11:30 a.m.
DESCRIPTION:St. Louis Cluster meets 2nd Monday monthly @ Second Baptist Church St. Louis (Clayton) @ 11:30 a.m.
URL:https://abcgrr.org/event/st-louis-cluster-meets-2nd-monday-monthly-second-baptist-church-st-louis-clayton-1130-a-m/2027-02-08/
ORGANIZER;CN="Rev Dr. F. Delano R. Benson Jr.%2C D.Min":MAILTO:abc.grr.area5@gmail.com
END:VEVENT
BEGIN:VEVENT
DTSTART;TZID=America/Chicago:20270213T090000
DTEND;TZID=America/Chicago:20270213T110000
DTSTAMP:20260420T110429
CREATED:20241024T183753Z
LAST-MODIFIED:20241024T183755Z
UID:10000648-1802509200-1802516400@abcgrr.org
SUMMARY:Kansas City Cluster meets 2nd Saturday monthly @ various locations 9:00 a.m.
DESCRIPTION:Kansas City Cluster meets 2nd Saturday monthly @ various locations 9:00 a.m.
URL:https://abcgrr.org/event/kansas-city-cluster-meets-2nd-saturday-monthly-various-locations-900-a-m/2027-02-13/
ORGANIZER;CN="Rev Dr. F. Delano R. Benson Jr.%2C D.Min":MAILTO:abc.grr.area5@gmail.com
END:VEVENT
BEGIN:VEVENT
DTSTART;TZID=America/Chicago:20270227T090000
DTEND;TZID=America/Chicago:20270227T110000
DTSTAMP:20260420T110429
CREATED:20241024T183005Z
LAST-MODIFIED:20241024T183007Z
UID:10000529-1803718800-1803726000@abcgrr.org
SUMMARY:Metro East Cluster meets 4th Saturday monthly 9:00 a.m. @ First Baptist Church\, Edwardsville
DESCRIPTION:Metro East Cluster meets 4th Saturday monthly 9:00 a.m. @ First Baptist Church\, Edwardsville
URL:https://abcgrr.org/event/metro-east-cluster-meets-4th-saturday-monthly-900-a-m-first-baptist-church-edwardsville/2027-02-27/
ORGANIZER;CN="Rev Dr. F. Delano R. Benson Jr.%2C D.Min":MAILTO:abc.grr.area5@gmail.com
END:VEVENT
BEGIN:VEVENT
DTSTART;TZID=America/Chicago:20270308T113000
DTEND;TZID=America/Chicago:20270308T133000
DTSTAMP:20260420T110429
CREATED:20241024T183212Z
LAST-MODIFIED:20241024T183213Z
UID:10000589-1804505400-1804512600@abcgrr.org
SUMMARY:St. Louis Cluster meets 2nd Monday monthly @ Second Baptist Church           St. Louis (Clayton) @ 11:30 a.m.
DESCRIPTION:St. Louis Cluster meets 2nd Monday monthly @ Second Baptist Church St. Louis (Clayton) @ 11:30 a.m.
URL:https://abcgrr.org/event/st-louis-cluster-meets-2nd-monday-monthly-second-baptist-church-st-louis-clayton-1130-a-m/2027-03-08/
ORGANIZER;CN="Rev Dr. F. Delano R. Benson Jr.%2C D.Min":MAILTO:abc.grr.area5@gmail.com
END:VEVENT
BEGIN:VEVENT
DTSTART;TZID=America/Chicago:20270313T090000
DTEND;TZID=America/Chicago:20270313T110000
DTSTAMP:20260420T110429
CREATED:20241024T183753Z
LAST-MODIFIED:20241024T183755Z
UID:10000649-1804928400-1804935600@abcgrr.org
SUMMARY:Kansas City Cluster meets 2nd Saturday monthly @ various locations 9:00 a.m.
DESCRIPTION:Kansas City Cluster meets 2nd Saturday monthly @ various locations 9:00 a.m.
URL:https://abcgrr.org/event/kansas-city-cluster-meets-2nd-saturday-monthly-various-locations-900-a-m/2027-03-13/
ORGANIZER;CN="Rev Dr. F. Delano R. Benson Jr.%2C D.Min":MAILTO:abc.grr.area5@gmail.com
END:VEVENT
BEGIN:VEVENT
DTSTART;TZID=America/Chicago:20270327T090000
DTEND;TZID=America/Chicago:20270327T110000
DTSTAMP:20260420T110429
CREATED:20241024T183005Z
LAST-MODIFIED:20241024T183007Z
UID:10000530-1806138000-1806145200@abcgrr.org
SUMMARY:Metro East Cluster meets 4th Saturday monthly 9:00 a.m. @ First Baptist Church\, Edwardsville
DESCRIPTION:Metro East Cluster meets 4th Saturday monthly 9:00 a.m. @ First Baptist Church\, Edwardsville
URL:https://abcgrr.org/event/metro-east-cluster-meets-4th-saturday-monthly-900-a-m-first-baptist-church-edwardsville/2027-03-27/
ORGANIZER;CN="Rev Dr. F. Delano R. Benson Jr.%2C D.Min":MAILTO:abc.grr.area5@gmail.com
END:VEVENT
END:VCALENDAR