BEGIN:VCALENDAR
VERSION:2.0
PRODID:-//American Baptist Churches of the Great River Region - ECPv6.15.20//NONSGML v1.0//EN
CALSCALE:GREGORIAN
METHOD:PUBLISH
X-ORIGINAL-URL:https://abcgrr.org
X-WR-CALDESC:Events for American Baptist Churches of the Great River Region
REFRESH-INTERVAL;VALUE=DURATION:PT1H
X-Robots-Tag:noindex
X-PUBLISHED-TTL:PT1H
BEGIN:VTIMEZONE
TZID:America/Chicago
BEGIN:DAYLIGHT
TZOFFSETFROM:-0600
TZOFFSETTO:-0500
TZNAME:CDT
DTSTART:20280312T080000
END:DAYLIGHT
BEGIN:STANDARD
TZOFFSETFROM:-0500
TZOFFSETTO:-0600
TZNAME:CST
DTSTART:20281105T070000
END:STANDARD
BEGIN:DAYLIGHT
TZOFFSETFROM:-0600
TZOFFSETTO:-0500
TZNAME:CDT
DTSTART:20290311T080000
END:DAYLIGHT
BEGIN:STANDARD
TZOFFSETFROM:-0500
TZOFFSETTO:-0600
TZNAME:CST
DTSTART:20291104T070000
END:STANDARD
BEGIN:DAYLIGHT
TZOFFSETFROM:-0600
TZOFFSETTO:-0500
TZNAME:CDT
DTSTART:20300310T080000
END:DAYLIGHT
BEGIN:STANDARD
TZOFFSETFROM:-0500
TZOFFSETTO:-0600
TZNAME:CST
DTSTART:20301103T070000
END:STANDARD
END:VTIMEZONE
BEGIN:VEVENT
DTSTART;TZID=America/Chicago:20291008T113000
DTEND;TZID=America/Chicago:20291008T133000
DTSTAMP:20260422T070410
CREATED:20241024T183212Z
LAST-MODIFIED:20241024T183213Z
UID:10000620-1886153400-1886160600@abcgrr.org
SUMMARY:St. Louis Cluster meets 2nd Monday monthly @ Second Baptist Church           St. Louis (Clayton) @ 11:30 a.m.
DESCRIPTION:St. Louis Cluster meets 2nd Monday monthly @ Second Baptist Church St. Louis (Clayton) @ 11:30 a.m.
URL:https://abcgrr.org/event/st-louis-cluster-meets-2nd-monday-monthly-second-baptist-church-st-louis-clayton-1130-a-m/2029-10-08/
ORGANIZER;CN="Rev Dr. F. Delano R. Benson Jr.%2C D.Min":MAILTO:abc.grr.area5@gmail.com
END:VEVENT
BEGIN:VEVENT
DTSTART;TZID=America/Chicago:20291013T090000
DTEND;TZID=America/Chicago:20291013T110000
DTSTAMP:20260422T070410
CREATED:20241024T183753Z
LAST-MODIFIED:20241024T183755Z
UID:10000680-1886576400-1886583600@abcgrr.org
SUMMARY:Kansas City Cluster meets 2nd Saturday monthly @ various locations 9:00 a.m.
DESCRIPTION:Kansas City Cluster meets 2nd Saturday monthly @ various locations 9:00 a.m.
URL:https://abcgrr.org/event/kansas-city-cluster-meets-2nd-saturday-monthly-various-locations-900-a-m/2029-10-13/
ORGANIZER;CN="Rev Dr. F. Delano R. Benson Jr.%2C D.Min":MAILTO:abc.grr.area5@gmail.com
END:VEVENT
END:VCALENDAR