BEGIN:VCALENDAR
VERSION:2.0
PRODID:-//American Baptist Churches of the Great River Region - ECPv6.15.20//NONSGML v1.0//EN
CALSCALE:GREGORIAN
METHOD:PUBLISH
X-WR-CALNAME:American Baptist Churches of the Great River Region
X-ORIGINAL-URL:https://abcgrr.org
X-WR-CALDESC:Events for American Baptist Churches of the Great River Region
REFRESH-INTERVAL;VALUE=DURATION:PT1H
X-Robots-Tag:noindex
X-PUBLISHED-TTL:PT1H
BEGIN:VTIMEZONE
TZID:America/Chicago
BEGIN:DAYLIGHT
TZOFFSETFROM:-0600
TZOFFSETTO:-0500
TZNAME:CDT
DTSTART:20230312T080000
END:DAYLIGHT
BEGIN:STANDARD
TZOFFSETFROM:-0500
TZOFFSETTO:-0600
TZNAME:CST
DTSTART:20231105T070000
END:STANDARD
BEGIN:DAYLIGHT
TZOFFSETFROM:-0600
TZOFFSETTO:-0500
TZNAME:CDT
DTSTART:20240310T080000
END:DAYLIGHT
BEGIN:STANDARD
TZOFFSETFROM:-0500
TZOFFSETTO:-0600
TZNAME:CST
DTSTART:20241103T070000
END:STANDARD
BEGIN:DAYLIGHT
TZOFFSETFROM:-0600
TZOFFSETTO:-0500
TZNAME:CDT
DTSTART:20250309T080000
END:DAYLIGHT
BEGIN:STANDARD
TZOFFSETFROM:-0500
TZOFFSETTO:-0600
TZNAME:CST
DTSTART:20251102T070000
END:STANDARD
BEGIN:DAYLIGHT
TZOFFSETFROM:-0600
TZOFFSETTO:-0500
TZNAME:CDT
DTSTART:20260308T080000
END:DAYLIGHT
BEGIN:STANDARD
TZOFFSETFROM:-0500
TZOFFSETTO:-0600
TZNAME:CST
DTSTART:20261101T070000
END:STANDARD
END:VTIMEZONE
BEGIN:VEVENT
DTSTART;TZID=America/Chicago:20250524T090000
DTEND;TZID=America/Chicago:20250524T110000
DTSTAMP:20260420T235749
CREATED:20241024T183005Z
LAST-MODIFIED:20241024T183007Z
UID:10000508-1748077200-1748084400@abcgrr.org
SUMMARY:Metro East Cluster meets 4th Saturday monthly 9:00 a.m. @ First Baptist Church\, Edwardsville
DESCRIPTION:Metro East Cluster meets 4th Saturday monthly 9:00 a.m. @ First Baptist Church\, Edwardsville
URL:https://abcgrr.org/event/metro-east-cluster-meets-4th-saturday-monthly-900-a-m-first-baptist-church-edwardsville/2025-05-24/
ORGANIZER;CN="Rev Dr. F. Delano R. Benson Jr.%2C D.Min":MAILTO:abc.grr.area5@gmail.com
END:VEVENT
BEGIN:VEVENT
DTSTART;TZID=America/Chicago:20250512T113000
DTEND;TZID=America/Chicago:20250512T133000
DTSTAMP:20260420T235749
CREATED:20241024T183212Z
LAST-MODIFIED:20241024T183213Z
UID:10000567-1747049400-1747056600@abcgrr.org
SUMMARY:St. Louis Cluster meets 2nd Monday monthly @ Second Baptist Church           St. Louis (Clayton) @ 11:30 a.m.
DESCRIPTION:St. Louis Cluster meets 2nd Monday monthly @ Second Baptist Church St. Louis (Clayton) @ 11:30 a.m.
URL:https://abcgrr.org/event/st-louis-cluster-meets-2nd-monday-monthly-second-baptist-church-st-louis-clayton-1130-a-m/2025-05-12/
ORGANIZER;CN="Rev Dr. F. Delano R. Benson Jr.%2C D.Min":MAILTO:abc.grr.area5@gmail.com
END:VEVENT
BEGIN:VEVENT
DTSTART;TZID=America/Chicago:20250510T090000
DTEND;TZID=America/Chicago:20250510T110000
DTSTAMP:20260420T235749
CREATED:20241024T183753Z
LAST-MODIFIED:20241024T183755Z
UID:10000627-1746867600-1746874800@abcgrr.org
SUMMARY:Kansas City Cluster meets 2nd Saturday monthly @ various locations 9:00 a.m.
DESCRIPTION:Kansas City Cluster meets 2nd Saturday monthly @ various locations 9:00 a.m.
URL:https://abcgrr.org/event/kansas-city-cluster-meets-2nd-saturday-monthly-various-locations-900-a-m/2025-05-10/
ORGANIZER;CN="Rev Dr. F. Delano R. Benson Jr.%2C D.Min":MAILTO:abc.grr.area5@gmail.com
END:VEVENT
BEGIN:VEVENT
DTSTART;TZID=America/Chicago:20250426T090000
DTEND;TZID=America/Chicago:20250426T110000
DTSTAMP:20260420T235749
CREATED:20241024T183005Z
LAST-MODIFIED:20241024T183007Z
UID:10000507-1745658000-1745665200@abcgrr.org
SUMMARY:Metro East Cluster meets 4th Saturday monthly 9:00 a.m. @ First Baptist Church\, Edwardsville
DESCRIPTION:Metro East Cluster meets 4th Saturday monthly 9:00 a.m. @ First Baptist Church\, Edwardsville
URL:https://abcgrr.org/event/metro-east-cluster-meets-4th-saturday-monthly-900-a-m-first-baptist-church-edwardsville/2025-04-26/
ORGANIZER;CN="Rev Dr. F. Delano R. Benson Jr.%2C D.Min":MAILTO:abc.grr.area5@gmail.com
END:VEVENT
BEGIN:VEVENT
DTSTART;TZID=America/Chicago:20250414T113000
DTEND;TZID=America/Chicago:20250414T133000
DTSTAMP:20260420T235749
CREATED:20241024T183212Z
LAST-MODIFIED:20241024T183213Z
UID:10000566-1744630200-1744637400@abcgrr.org
SUMMARY:St. Louis Cluster meets 2nd Monday monthly @ Second Baptist Church           St. Louis (Clayton) @ 11:30 a.m.
DESCRIPTION:St. Louis Cluster meets 2nd Monday monthly @ Second Baptist Church St. Louis (Clayton) @ 11:30 a.m.
URL:https://abcgrr.org/event/st-louis-cluster-meets-2nd-monday-monthly-second-baptist-church-st-louis-clayton-1130-a-m/2025-04-14/
ORGANIZER;CN="Rev Dr. F. Delano R. Benson Jr.%2C D.Min":MAILTO:abc.grr.area5@gmail.com
END:VEVENT
BEGIN:VEVENT
DTSTART;TZID=America/Chicago:20250412T090000
DTEND;TZID=America/Chicago:20250412T110000
DTSTAMP:20260420T235749
CREATED:20241024T183753Z
LAST-MODIFIED:20241024T183755Z
UID:10000626-1744448400-1744455600@abcgrr.org
SUMMARY:Kansas City Cluster meets 2nd Saturday monthly @ various locations 9:00 a.m.
DESCRIPTION:Kansas City Cluster meets 2nd Saturday monthly @ various locations 9:00 a.m.
URL:https://abcgrr.org/event/kansas-city-cluster-meets-2nd-saturday-monthly-various-locations-900-a-m/2025-04-12/
ORGANIZER;CN="Rev Dr. F. Delano R. Benson Jr.%2C D.Min":MAILTO:abc.grr.area5@gmail.com
END:VEVENT
BEGIN:VEVENT
DTSTART;TZID=America/Chicago:20250322T090000
DTEND;TZID=America/Chicago:20250322T110000
DTSTAMP:20260420T235749
CREATED:20241024T183005Z
LAST-MODIFIED:20241024T183007Z
UID:10000506-1742634000-1742641200@abcgrr.org
SUMMARY:Metro East Cluster meets 4th Saturday monthly 9:00 a.m. @ First Baptist Church\, Edwardsville
DESCRIPTION:Metro East Cluster meets 4th Saturday monthly 9:00 a.m. @ First Baptist Church\, Edwardsville
URL:https://abcgrr.org/event/metro-east-cluster-meets-4th-saturday-monthly-900-a-m-first-baptist-church-edwardsville/2025-03-22/
ORGANIZER;CN="Rev Dr. F. Delano R. Benson Jr.%2C D.Min":MAILTO:abc.grr.area5@gmail.com
END:VEVENT
BEGIN:VEVENT
DTSTART;TZID=America/Chicago:20250310T113000
DTEND;TZID=America/Chicago:20250310T133000
DTSTAMP:20260420T235749
CREATED:20241024T183212Z
LAST-MODIFIED:20241024T183213Z
UID:10000565-1741606200-1741613400@abcgrr.org
SUMMARY:St. Louis Cluster meets 2nd Monday monthly @ Second Baptist Church           St. Louis (Clayton) @ 11:30 a.m.
DESCRIPTION:St. Louis Cluster meets 2nd Monday monthly @ Second Baptist Church St. Louis (Clayton) @ 11:30 a.m.
URL:https://abcgrr.org/event/st-louis-cluster-meets-2nd-monday-monthly-second-baptist-church-st-louis-clayton-1130-a-m/2025-03-10/
ORGANIZER;CN="Rev Dr. F. Delano R. Benson Jr.%2C D.Min":MAILTO:abc.grr.area5@gmail.com
END:VEVENT
BEGIN:VEVENT
DTSTART;TZID=America/Chicago:20250308T090000
DTEND;TZID=America/Chicago:20250308T110000
DTSTAMP:20260420T235749
CREATED:20241024T183753Z
LAST-MODIFIED:20241024T183755Z
UID:10000625-1741424400-1741431600@abcgrr.org
SUMMARY:Kansas City Cluster meets 2nd Saturday monthly @ various locations 9:00 a.m.
DESCRIPTION:Kansas City Cluster meets 2nd Saturday monthly @ various locations 9:00 a.m.
URL:https://abcgrr.org/event/kansas-city-cluster-meets-2nd-saturday-monthly-various-locations-900-a-m/2025-03-08/
ORGANIZER;CN="Rev Dr. F. Delano R. Benson Jr.%2C D.Min":MAILTO:abc.grr.area5@gmail.com
END:VEVENT
BEGIN:VEVENT
DTSTART;TZID=America/Chicago:20250222T090000
DTEND;TZID=America/Chicago:20250222T110000
DTSTAMP:20260420T235749
CREATED:20241024T183005Z
LAST-MODIFIED:20241024T183007Z
UID:10000505-1740214800-1740222000@abcgrr.org
SUMMARY:Metro East Cluster meets 4th Saturday monthly 9:00 a.m. @ First Baptist Church\, Edwardsville
DESCRIPTION:Metro East Cluster meets 4th Saturday monthly 9:00 a.m. @ First Baptist Church\, Edwardsville
URL:https://abcgrr.org/event/metro-east-cluster-meets-4th-saturday-monthly-900-a-m-first-baptist-church-edwardsville/2025-02-22/
ORGANIZER;CN="Rev Dr. F. Delano R. Benson Jr.%2C D.Min":MAILTO:abc.grr.area5@gmail.com
END:VEVENT
BEGIN:VEVENT
DTSTART;TZID=America/Chicago:20250210T113000
DTEND;TZID=America/Chicago:20250210T133000
DTSTAMP:20260420T235749
CREATED:20241024T183212Z
LAST-MODIFIED:20241024T183213Z
UID:10000564-1739187000-1739194200@abcgrr.org
SUMMARY:St. Louis Cluster meets 2nd Monday monthly @ Second Baptist Church           St. Louis (Clayton) @ 11:30 a.m.
DESCRIPTION:St. Louis Cluster meets 2nd Monday monthly @ Second Baptist Church St. Louis (Clayton) @ 11:30 a.m.
URL:https://abcgrr.org/event/st-louis-cluster-meets-2nd-monday-monthly-second-baptist-church-st-louis-clayton-1130-a-m/2025-02-10/
ORGANIZER;CN="Rev Dr. F. Delano R. Benson Jr.%2C D.Min":MAILTO:abc.grr.area5@gmail.com
END:VEVENT
BEGIN:VEVENT
DTSTART;TZID=America/Chicago:20250208T090000
DTEND;TZID=America/Chicago:20250208T110000
DTSTAMP:20260420T235749
CREATED:20241024T183753Z
LAST-MODIFIED:20241024T183755Z
UID:10000624-1739005200-1739012400@abcgrr.org
SUMMARY:Kansas City Cluster meets 2nd Saturday monthly @ various locations 9:00 a.m.
DESCRIPTION:Kansas City Cluster meets 2nd Saturday monthly @ various locations 9:00 a.m.
URL:https://abcgrr.org/event/kansas-city-cluster-meets-2nd-saturday-monthly-various-locations-900-a-m/2025-02-08/
ORGANIZER;CN="Rev Dr. F. Delano R. Benson Jr.%2C D.Min":MAILTO:abc.grr.area5@gmail.com
END:VEVENT
BEGIN:VEVENT
DTSTART;TZID=America/Chicago:20250125T090000
DTEND;TZID=America/Chicago:20250125T110000
DTSTAMP:20260420T235749
CREATED:20241024T183005Z
LAST-MODIFIED:20241024T183007Z
UID:10000504-1737795600-1737802800@abcgrr.org
SUMMARY:Metro East Cluster meets 4th Saturday monthly 9:00 a.m. @ First Baptist Church\, Edwardsville
DESCRIPTION:Metro East Cluster meets 4th Saturday monthly 9:00 a.m. @ First Baptist Church\, Edwardsville
URL:https://abcgrr.org/event/metro-east-cluster-meets-4th-saturday-monthly-900-a-m-first-baptist-church-edwardsville/2025-01-25/
ORGANIZER;CN="Rev Dr. F. Delano R. Benson Jr.%2C D.Min":MAILTO:abc.grr.area5@gmail.com
END:VEVENT
BEGIN:VEVENT
DTSTART;TZID=America/Chicago:20250113T113000
DTEND;TZID=America/Chicago:20250113T133000
DTSTAMP:20260420T235749
CREATED:20241024T183212Z
LAST-MODIFIED:20241024T183213Z
UID:10000563-1736767800-1736775000@abcgrr.org
SUMMARY:St. Louis Cluster meets 2nd Monday monthly @ Second Baptist Church           St. Louis (Clayton) @ 11:30 a.m.
DESCRIPTION:St. Louis Cluster meets 2nd Monday monthly @ Second Baptist Church St. Louis (Clayton) @ 11:30 a.m.
URL:https://abcgrr.org/event/st-louis-cluster-meets-2nd-monday-monthly-second-baptist-church-st-louis-clayton-1130-a-m/2025-01-13/
ORGANIZER;CN="Rev Dr. F. Delano R. Benson Jr.%2C D.Min":MAILTO:abc.grr.area5@gmail.com
END:VEVENT
BEGIN:VEVENT
DTSTART;TZID=America/Chicago:20250111T090000
DTEND;TZID=America/Chicago:20250111T110000
DTSTAMP:20260420T235749
CREATED:20241024T183753Z
LAST-MODIFIED:20241024T183755Z
UID:10000623-1736586000-1736593200@abcgrr.org
SUMMARY:Kansas City Cluster meets 2nd Saturday monthly @ various locations 9:00 a.m.
DESCRIPTION:Kansas City Cluster meets 2nd Saturday monthly @ various locations 9:00 a.m.
URL:https://abcgrr.org/event/kansas-city-cluster-meets-2nd-saturday-monthly-various-locations-900-a-m/2025-01-11/
ORGANIZER;CN="Rev Dr. F. Delano R. Benson Jr.%2C D.Min":MAILTO:abc.grr.area5@gmail.com
END:VEVENT
BEGIN:VEVENT
DTSTART;TZID=America/Chicago:20241228T090000
DTEND;TZID=America/Chicago:20241228T110000
DTSTAMP:20260420T235749
CREATED:20241024T183005Z
LAST-MODIFIED:20241024T183007Z
UID:10000503-1735376400-1735383600@abcgrr.org
SUMMARY:Metro East Cluster meets 4th Saturday monthly 9:00 a.m. @ First Baptist Church\, Edwardsville
DESCRIPTION:Metro East Cluster meets 4th Saturday monthly 9:00 a.m. @ First Baptist Church\, Edwardsville
URL:https://abcgrr.org/event/metro-east-cluster-meets-4th-saturday-monthly-900-a-m-first-baptist-church-edwardsville/2024-12-28/
ORGANIZER;CN="Rev Dr. F. Delano R. Benson Jr.%2C D.Min":MAILTO:abc.grr.area5@gmail.com
END:VEVENT
BEGIN:VEVENT
DTSTART;TZID=America/Chicago:20241214T090000
DTEND;TZID=America/Chicago:20241214T110000
DTSTAMP:20260420T235749
CREATED:20241024T183753Z
LAST-MODIFIED:20241024T183755Z
UID:10000622-1734166800-1734174000@abcgrr.org
SUMMARY:Kansas City Cluster meets 2nd Saturday monthly @ various locations 9:00 a.m.
DESCRIPTION:Kansas City Cluster meets 2nd Saturday monthly @ various locations 9:00 a.m.
URL:https://abcgrr.org/event/kansas-city-cluster-meets-2nd-saturday-monthly-various-locations-900-a-m/2024-12-14/
ORGANIZER;CN="Rev Dr. F. Delano R. Benson Jr.%2C D.Min":MAILTO:abc.grr.area5@gmail.com
END:VEVENT
BEGIN:VEVENT
DTSTART;TZID=America/Chicago:20241209T113000
DTEND;TZID=America/Chicago:20241209T133000
DTSTAMP:20260420T235749
CREATED:20241024T183212Z
LAST-MODIFIED:20241024T183213Z
UID:10000562-1733743800-1733751000@abcgrr.org
SUMMARY:St. Louis Cluster meets 2nd Monday monthly @ Second Baptist Church           St. Louis (Clayton) @ 11:30 a.m.
DESCRIPTION:St. Louis Cluster meets 2nd Monday monthly @ Second Baptist Church St. Louis (Clayton) @ 11:30 a.m.
URL:https://abcgrr.org/event/st-louis-cluster-meets-2nd-monday-monthly-second-baptist-church-st-louis-clayton-1130-a-m/2024-12-09/
ORGANIZER;CN="Rev Dr. F. Delano R. Benson Jr.%2C D.Min":MAILTO:abc.grr.area5@gmail.com
END:VEVENT
BEGIN:VEVENT
DTSTART;TZID=America/Chicago:20241123T090000
DTEND;TZID=America/Chicago:20241123T110000
DTSTAMP:20260420T235749
CREATED:20241024T183005Z
LAST-MODIFIED:20241024T183007Z
UID:10000502-1732352400-1732359600@abcgrr.org
SUMMARY:Metro East Cluster meets 4th Saturday monthly 9:00 a.m. @ First Baptist Church\, Edwardsville
DESCRIPTION:Metro East Cluster meets 4th Saturday monthly 9:00 a.m. @ First Baptist Church\, Edwardsville
URL:https://abcgrr.org/event/metro-east-cluster-meets-4th-saturday-monthly-900-a-m-first-baptist-church-edwardsville/2024-11-23/
ORGANIZER;CN="Rev Dr. F. Delano R. Benson Jr.%2C D.Min":MAILTO:abc.grr.area5@gmail.com
END:VEVENT
BEGIN:VEVENT
DTSTART;TZID=America/Chicago:20241111T113000
DTEND;TZID=America/Chicago:20241111T133000
DTSTAMP:20260420T235749
CREATED:20241024T183212Z
LAST-MODIFIED:20241024T183213Z
UID:10000561-1731324600-1731331800@abcgrr.org
SUMMARY:St. Louis Cluster meets 2nd Monday monthly @ Second Baptist Church           St. Louis (Clayton) @ 11:30 a.m.
DESCRIPTION:St. Louis Cluster meets 2nd Monday monthly @ Second Baptist Church St. Louis (Clayton) @ 11:30 a.m.
URL:https://abcgrr.org/event/st-louis-cluster-meets-2nd-monday-monthly-second-baptist-church-st-louis-clayton-1130-a-m/2024-11-11/
ORGANIZER;CN="Rev Dr. F. Delano R. Benson Jr.%2C D.Min":MAILTO:abc.grr.area5@gmail.com
END:VEVENT
BEGIN:VEVENT
DTSTART;TZID=America/Chicago:20241109T090000
DTEND;TZID=America/Chicago:20241109T110000
DTSTAMP:20260420T235749
CREATED:20241024T183753Z
LAST-MODIFIED:20241024T183755Z
UID:10000621-1731142800-1731150000@abcgrr.org
SUMMARY:Kansas City Cluster meets 2nd Saturday monthly @ various locations 9:00 a.m.
DESCRIPTION:Kansas City Cluster meets 2nd Saturday monthly @ various locations 9:00 a.m.
URL:https://abcgrr.org/event/kansas-city-cluster-meets-2nd-saturday-monthly-various-locations-900-a-m/2024-11-09/
ORGANIZER;CN="Rev Dr. F. Delano R. Benson Jr.%2C D.Min":MAILTO:abc.grr.area5@gmail.com
END:VEVENT
BEGIN:VEVENT
DTSTART;TZID=America/Chicago:20241026T090000
DTEND;TZID=America/Chicago:20241026T110000
DTSTAMP:20260420T235749
CREATED:20241024T183005Z
LAST-MODIFIED:20241024T183007Z
UID:10000501-1729933200-1729940400@abcgrr.org
SUMMARY:Metro East Cluster meets 4th Saturday monthly 9:00 a.m. @ First Baptist Church\, Edwardsville
DESCRIPTION:Metro East Cluster meets 4th Saturday monthly 9:00 a.m. @ First Baptist Church\, Edwardsville
URL:https://abcgrr.org/event/metro-east-cluster-meets-4th-saturday-monthly-900-a-m-first-baptist-church-edwardsville/2024-10-26/
ORGANIZER;CN="Rev Dr. F. Delano R. Benson Jr.%2C D.Min":MAILTO:abc.grr.area5@gmail.com
END:VEVENT
END:VCALENDAR